BEGIN:VCALENDAR
VERSION:2.0
PRODID:-//destination.one//NONSGML destination.meta API//DE
X-WR-CALDESC:A calendar powered by destination.meta
X-WR-CALNAME:teutonavigator Kalender via destination.meta
BEGIN:VEVENT
CATEGORIES:Familie und Kinder
CATEGORIES:Kinderprogramm
CATEGORIES:Stadtfest/Kirmes/Jahrmarkt
CATEGORIES:Konzert divers
DESCRIPTION:Freuen Sie sich auf:\n- Gemeinsames "Trällern" bekannter Frühli
 ngslieder\,\n- Gute Stimmung in geselliger Runde\,\n- Einen fröhlichen Sta
 rt in die neue Jahreszeit.\n\nmehr Informationen unter http://pages.destin
 ation.one/de/teutonavigator/streaming/detail/Event/e_101256282/es-t-nen-di
 e-lieder-fr-hlings-hofsingen-f-r-jung-und-alt
DTEND;TZID=Europe/Berlin:20260426T133000
DTSTAMP:20260421T130617Z
DTSTART;TZID=Europe/Berlin:20260426T110000
GEO:51.879134;9.197799
LOCATION:Weine Im Polhof\, Polhof 3\, Schieder-Schwalenberg
ORGANIZER;CN=Kelter- und Kulturverein e.V.:mailto:info@kelterundkultur.de
SEQUENCE:0
SUMMARY:Es tönen die Lieder - Frühlings-Hofsingen für jung und alt
UID:e_101256282_iv0
URL:http://pages.destination.one/de/teutonavigator/streaming/detail/Event/e
 _101256282/es-t-nen-die-lieder-fr-hlings-hofsingen-f-r-jung-und-alt
END:VEVENT
BEGIN:VTIMEZONE
TZID:Europe/Berlin
X-LIC-LOCATION:Europe/Berlin
BEGIN:DAYLIGHT
DTSTART:19700329T020000
RRULE:FREQ=YEARLY;BYDAY=-1SU;BYMONTH=3
TZNAME:CEST
TZOFFSETFROM:+0100
TZOFFSETTO:+0200
END:DAYLIGHT
BEGIN:STANDARD
DTSTART:19701025T030000
RRULE:FREQ=YEARLY;BYDAY=-1SU;BYMONTH=10
TZNAME:CET
TZOFFSETFROM:+0200
TZOFFSETTO:+0100
END:STANDARD
END:VTIMEZONE
END:VCALENDAR
