BEGIN:VCALENDAR
VERSION:2.0
PRODID:-//destination.one//NONSGML destination.meta API//DE
X-WR-CALDESC:A calendar powered by destination.meta
X-WR-CALNAME:teutonavigator Kalender via destination.meta
BEGIN:VEVENT
CATEGORIES:Vortrag/Lesung
DESCRIPTION:\n\nmehr Informationen unter http://pages.destination.one/de/te
 utonavigator/streaming/detail/Event/e_101256281/round-table-im-haus-wipper
 mann-was-bewegt-sie-lokal-global-und-national
DTEND;TZID=Europe/Berlin:20260423T193000
DTSTAMP:20260421T084652Z
DTSTART;TZID=Europe/Berlin:20260423T180000
GEO:52.027810;8.900540
LOCATION:Volkshochschule Lemgo\, Kramerstr. 5\, Lemgo
ORGANIZER;CN=VHS Detmold-Lemgo:http://www.vhs-detmold.de/
SEQUENCE:0
SUMMARY:Round Table im Haus Wippermann: Was bewegt Sie - lokal\, global und
  national?
UID:e_101256281_iv0
URL:http://pages.destination.one/de/teutonavigator/streaming/detail/Event/e
 _101256281/round-table-im-haus-wippermann-was-bewegt-sie-lokal-global-und-
 national
END:VEVENT
BEGIN:VTIMEZONE
TZID:Europe/Berlin
X-LIC-LOCATION:Europe/Berlin
BEGIN:DAYLIGHT
DTSTART:19700329T020000
RRULE:FREQ=YEARLY;BYDAY=-1SU;BYMONTH=3
TZNAME:CEST
TZOFFSETFROM:+0100
TZOFFSETTO:+0200
END:DAYLIGHT
BEGIN:STANDARD
DTSTART:19701025T030000
RRULE:FREQ=YEARLY;BYDAY=-1SU;BYMONTH=10
TZNAME:CET
TZOFFSETFROM:+0200
TZOFFSETTO:+0100
END:STANDARD
END:VTIMEZONE
END:VCALENDAR
