BEGIN:VCALENDAR
VERSION:2.0
PRODID:-//destination.one//NONSGML destination.meta API//DE
X-WR-CALDESC:A calendar powered by destination.meta
X-WR-CALNAME:teutonavigator Kalender via destination.meta
BEGIN:VEVENT
CATEGORIES:Kurs/Seminar/Hobby
DESCRIPTION:Kulturrucksack: Gestalte (d)ein Buch\n\nmehr Informationen unte
 r http://pages.destination.one/de/teutonavigator/streaming/detail/Event/e_
 101255541/kulturrucksack-gestalte-d-ein-buch
DTEND;TZID=Europe/Berlin:20260803T235900
DTSTAMP:20260421T192333Z
DTSTART;TZID=Europe/Berlin:20260803T090000
GEO:52.287035;8.919548
LOCATION:Kommunalarchiv\, Tonhallenstraße 7\, Minden
RRULE:FREQ=WEEKLY;UNTIL=20260805T220000;BYDAY=MO,TU,WE
SEQUENCE:0
SUMMARY:Kulturrucksack: Gestalte (d)ein Buch
UID:e_101255541_iv0
URL:http://pages.destination.one/de/teutonavigator/streaming/detail/Event/e
 _101255541/kulturrucksack-gestalte-d-ein-buch
END:VEVENT
BEGIN:VTIMEZONE
TZID:Europe/Berlin
X-LIC-LOCATION:Europe/Berlin
BEGIN:DAYLIGHT
DTSTART:19700329T020000
RRULE:FREQ=YEARLY;BYDAY=-1SU;BYMONTH=3
TZNAME:CEST
TZOFFSETFROM:+0100
TZOFFSETTO:+0200
END:DAYLIGHT
BEGIN:STANDARD
DTSTART:19701025T030000
RRULE:FREQ=YEARLY;BYDAY=-1SU;BYMONTH=10
TZNAME:CET
TZOFFSETFROM:+0200
TZOFFSETTO:+0100
END:STANDARD
END:VTIMEZONE
END:VCALENDAR
