BEGIN:VCALENDAR
VERSION:2.0
PRODID:-//destination.one//NONSGML destination.meta API//DE
X-WR-CALDESC:A calendar powered by destination.meta
X-WR-CALNAME:teutonavigator Kalender via destination.meta
BEGIN:VEVENT
CATEGORIES:Kurs/Seminar/Hobby
DESCRIPTION:Kulturrucksack: Nana-Figuren selbst gestalten\n\nmehr Informati
 onen unter http://pages.destination.one/de/teutonavigator/streaming/detail
 /Event/e_101255537/kulturrucksack-nana-figuren-selbst-gestalten
DTEND;TZID=Europe/Berlin:20260704T235900
DTSTAMP:20260422T171057Z
DTSTART;TZID=Europe/Berlin:20260704T100000
GEO:52.294778;8.935835
LOCATION:Fort A\, Festungstrasse 20\, Minden
RRULE:FREQ=WEEKLY;UNTIL=20260705T220000;BYDAY=SA,SU
SEQUENCE:0
SUMMARY:Kulturrucksack: Nana-Figuren selbst gestalten
UID:e_101255537_iv0
URL:http://pages.destination.one/de/teutonavigator/streaming/detail/Event/e
 _101255537/kulturrucksack-nana-figuren-selbst-gestalten
END:VEVENT
BEGIN:VEVENT
CATEGORIES:Kurs/Seminar/Hobby
DESCRIPTION:Kulturrucksack: Nana-Figuren selbst gestalten\n\nmehr Informati
 onen unter http://pages.destination.one/de/teutonavigator/streaming/detail
 /Event/e_101255537/kulturrucksack-nana-figuren-selbst-gestalten
DTEND;TZID=Europe/Berlin:20260711T235900
DTSTAMP:20260422T171057Z
DTSTART;TZID=Europe/Berlin:20260711T100000
GEO:52.294778;8.935835
LOCATION:Fort A\, Festungstrasse 20\, Minden
RRULE:FREQ=WEEKLY;UNTIL=20260712T220000;BYDAY=SA,SU
SEQUENCE:0
SUMMARY:Kulturrucksack: Nana-Figuren selbst gestalten
UID:e_101255537_iv1
URL:http://pages.destination.one/de/teutonavigator/streaming/detail/Event/e
 _101255537/kulturrucksack-nana-figuren-selbst-gestalten
END:VEVENT
BEGIN:VTIMEZONE
TZID:Europe/Berlin
X-LIC-LOCATION:Europe/Berlin
BEGIN:DAYLIGHT
DTSTART:19700329T020000
RRULE:FREQ=YEARLY;BYDAY=-1SU;BYMONTH=3
TZNAME:CEST
TZOFFSETFROM:+0100
TZOFFSETTO:+0200
END:DAYLIGHT
BEGIN:STANDARD
DTSTART:19701025T030000
RRULE:FREQ=YEARLY;BYDAY=-1SU;BYMONTH=10
TZNAME:CET
TZOFFSETFROM:+0200
TZOFFSETTO:+0100
END:STANDARD
END:VTIMEZONE
END:VCALENDAR
