BEGIN:VCALENDAR
VERSION:2.0
PRODID:-//destination.one//NONSGML destination.meta API//DE
X-WR-CALDESC:A calendar powered by destination.meta
X-WR-CALNAME:teutonavigator Kalender via destination.meta
BEGIN:VEVENT
CATEGORIES:Sport/Freizeit
DESCRIPTION:Unter dem Motto „Europa Gemeinsam Bewegen“ richtet das EUROPE D
 IRECT Kreis Gütersloh zusammen mit der Stadt Versmold am Freitag\, 8. Mai\
 , eine offene Laufaktion aus. Start ist um 16:30 Uhr im Friedenspark Versm
 old. Die Veranstaltung soll ein öffentlichkeitswirksames Zeichen für den e
 uropäischen Zusammenhalt und die gemeinsamen Werte der Europäischen Union 
 setzen.\n\nmehr Informationen unter http://pages.destination.one/de/teuton
 avigator/streaming/detail/Event/e_101255446/europa-lauf-etappe-versmold
DTEND;TZID=Europe/Berlin:20260508T183000
DTSTAMP:20260419T161147Z
DTSTART;TZID=Europe/Berlin:20260508T163000
GEO:52.040686;8.152885
LOCATION:Friedenspark\, Gartenstraße 10\, Versmold
PRIORITY:4
SEQUENCE:0
SUMMARY:Europa-Lauf\, Etappe Versmold
UID:e_101255446_iv0
URL:http://pages.destination.one/de/teutonavigator/streaming/detail/Event/e
 _101255446/europa-lauf-etappe-versmold
END:VEVENT
BEGIN:VTIMEZONE
TZID:Europe/Berlin
X-LIC-LOCATION:Europe/Berlin
BEGIN:DAYLIGHT
DTSTART:19700329T020000
RRULE:FREQ=YEARLY;BYDAY=-1SU;BYMONTH=3
TZNAME:CEST
TZOFFSETFROM:+0100
TZOFFSETTO:+0200
END:DAYLIGHT
BEGIN:STANDARD
DTSTART:19701025T030000
RRULE:FREQ=YEARLY;BYDAY=-1SU;BYMONTH=10
TZNAME:CET
TZOFFSETFROM:+0200
TZOFFSETTO:+0100
END:STANDARD
END:VTIMEZONE
END:VCALENDAR
