BEGIN:VCALENDAR
VERSION:2.0
PRODID:-//destination.one//NONSGML destination.meta API//DE
X-WR-CALDESC:A calendar powered by destination.meta
X-WR-CALNAME:teutonavigator Kalender via destination.meta
BEGIN:VEVENT
CATEGORIES:Sonstiges
DESCRIPTION:Die Gärten der Sinne\, eine 25.000 m² große Gartenanlage mit vi
 elen Themengärten startet in die neue Saison.\n\nmehr Informationen unter 
 http://pages.destination.one/de/teutonavigator/streaming/detail/Event/e_10
 1255401/er-ffnung-der-gartensaison
DTEND;TZID=Europe/Berlin:20260501T210000
DTSTAMP:20260423T110751Z
DTSTART;TZID=Europe/Berlin:20260501T143000
GEO:52.366016;8.433745
LOCATION:Rila erleben - Gärten der Sinne\, An den Rila-Gärten 2 | (ehem. Hi
 nterm Teich 9)\, Stemwede
ORGANIZER;CN=Rila erleben:mailto:erleben@rila.de
SEQUENCE:0
SUMMARY:Eröffnung der Gartensaison
UID:e_101255401_iv0
URL:http://pages.destination.one/de/teutonavigator/streaming/detail/Event/e
 _101255401/er-ffnung-der-gartensaison
END:VEVENT
BEGIN:VTIMEZONE
TZID:Europe/Berlin
X-LIC-LOCATION:Europe/Berlin
BEGIN:DAYLIGHT
DTSTART:19700329T020000
RRULE:FREQ=YEARLY;BYDAY=-1SU;BYMONTH=3
TZNAME:CEST
TZOFFSETFROM:+0100
TZOFFSETTO:+0200
END:DAYLIGHT
BEGIN:STANDARD
DTSTART:19701025T030000
RRULE:FREQ=YEARLY;BYDAY=-1SU;BYMONTH=10
TZNAME:CET
TZOFFSETFROM:+0200
TZOFFSETTO:+0100
END:STANDARD
END:VTIMEZONE
END:VCALENDAR
