BEGIN:VCALENDAR
VERSION:2.0
PRODID:-//destination.one//NONSGML destination.meta API//DE
X-WR-CALDESC:A calendar powered by destination.meta
X-WR-CALNAME:teutonavigator Kalender via destination.meta
BEGIN:VEVENT
CATEGORIES:Sonstiges
DESCRIPTION:Erlebnisführung mit Bischof von Wardenberg.\n Teilnahmegebühr: 
 6\,00 €.\n Eintrittkarten sind erhältlich unter: www.dvm-event.de oder im 
 Domschatz Minden.\n\nmehr Informationen unter http://pages.destination.one
 /de/teutonavigator/streaming/detail/Event/e_101255069/erlebnisf-hrung-mit-
 bischof-von-wardenberg
DTEND;TZID=Europe/Berlin:20260419T235900
DTSTAMP:20260419T220914Z
DTSTART;TZID=Europe/Berlin:20260419T150000
GEO:52.288528;8.918130
LOCATION:Dombau-Verein Minden e.V.\, Kleiner Domhof 24\, Minden
ORGANIZER;CN=Hans-Jürgen Amtage:mailto:amtage@dombauverein-minden.de
PRIORITY:4
RRULE:FREQ=WEEKLY;UNTIL=20260419T220000;BYDAY=SU
SEQUENCE:0
SUMMARY:Erlebnisführung mit Bischof von Wardenberg
UID:e_101255069_iv0
URL:http://pages.destination.one/de/teutonavigator/streaming/detail/Event/e
 _101255069/erlebnisf-hrung-mit-bischof-von-wardenberg
END:VEVENT
BEGIN:VTIMEZONE
TZID:Europe/Berlin
X-LIC-LOCATION:Europe/Berlin
BEGIN:DAYLIGHT
DTSTART:19700329T020000
RRULE:FREQ=YEARLY;BYDAY=-1SU;BYMONTH=3
TZNAME:CEST
TZOFFSETFROM:+0100
TZOFFSETTO:+0200
END:DAYLIGHT
BEGIN:STANDARD
DTSTART:19701025T030000
RRULE:FREQ=YEARLY;BYDAY=-1SU;BYMONTH=10
TZNAME:CET
TZOFFSETFROM:+0200
TZOFFSETTO:+0100
END:STANDARD
END:VTIMEZONE
END:VCALENDAR
