BEGIN:VCALENDAR
VERSION:2.0
PRODID:-//destination.one//NONSGML destination.meta API//DE
X-WR-CALDESC:A calendar powered by destination.meta
X-WR-CALNAME:teutonavigator Kalender via destination.meta
BEGIN:VEVENT
CATEGORIES:Kinderprogramm
CATEGORIES:Workshop
DESCRIPTION:\n\nmehr Informationen unter http://pages.destination.one/de/te
 utonavigator/streaming/detail/Event/e_101254413/t-ftlers-explorer-der-kurs
 -f-r-alle-von-8-13-jahren
DTEND;TZID=Europe/Berlin:20260422T190000
DTSTAMP:20260422T082353Z
DTSTART;TZID=Europe/Berlin:20260422T170000
GEO:52.200137;8.795714
LOCATION:Bad Oeynhausen\, Im Kurpark\, Bad Oeynhausen
ORGANIZER;CN="Tüftlers - Explorer: Der Kurs für alle von 8-13 Jahren":mailt
 o:kontakt@der-hive.de
RRULE:FREQ=WEEKLY;UNTIL=20260624T150000;BYDAY=WE
SEQUENCE:0
SUMMARY:Tüftlers - Explorer: Der Kurs für alle von 8-13 Jahren
UID:e_101254413_iv0
URL:http://pages.destination.one/de/teutonavigator/streaming/detail/Event/e
 _101254413/t-ftlers-explorer-der-kurs-f-r-alle-von-8-13-jahren
END:VEVENT
BEGIN:VTIMEZONE
TZID:Europe/Berlin
X-LIC-LOCATION:Europe/Berlin
BEGIN:DAYLIGHT
DTSTART:19700329T020000
RRULE:FREQ=YEARLY;BYDAY=-1SU;BYMONTH=3
TZNAME:CEST
TZOFFSETFROM:+0100
TZOFFSETTO:+0200
END:DAYLIGHT
BEGIN:STANDARD
DTSTART:19701025T030000
RRULE:FREQ=YEARLY;BYDAY=-1SU;BYMONTH=10
TZNAME:CET
TZOFFSETFROM:+0200
TZOFFSETTO:+0100
END:STANDARD
END:VTIMEZONE
END:VCALENDAR
