BEGIN:VCALENDAR
VERSION:2.0
PRODID:-//destination.one//NONSGML destination.meta API//DE
X-WR-CALDESC:A calendar powered by destination.meta
X-WR-CALNAME:teutonavigator Kalender via destination.meta
BEGIN:VEVENT
CATEGORIES:Vortrag/Lesung
DESCRIPTION:"La symphonie des éclairs" - die Entdeckungen: Zaho de Sagazan 
 / Les Frangines / Laura Cahen\n\nmehr Informationen unter http://pages.des
 tination.one/de/teutonavigator/streaming/detail/Event/e_101254389/la-symph
 onie-des-clairs-die-entdeckungen-zaho-de-sagazan-les-frangines-laura-cahen
DTEND;TZID=Europe/Berlin:20260511T213000
DTSTAMP:20260421T131318Z
DTSTART;TZID=Europe/Berlin:20260511T190000
GEO:51.934171;8.877055
LOCATION:VHS Detmold-Lemgo - Vortragssaal\, Krumme Straße 20\, Detmold
ORGANIZER;CN=VHS Detmold-Lemgo und Kooperationspartner:mailto:info@vhs-detm
 old.de
SEQUENCE:0
SUMMARY:"La symphonie des éclairs" - die Entdeckungen: Zaho de Sagazan / Le
 s Frangines / Laura Cahen
UID:e_101254389_iv0
URL:http://pages.destination.one/de/teutonavigator/streaming/detail/Event/e
 _101254389/la-symphonie-des-clairs-die-entdeckungen-zaho-de-sagazan-les-fr
 angines-laura-cahen
END:VEVENT
BEGIN:VTIMEZONE
TZID:Europe/Berlin
X-LIC-LOCATION:Europe/Berlin
BEGIN:DAYLIGHT
DTSTART:19700329T020000
RRULE:FREQ=YEARLY;BYDAY=-1SU;BYMONTH=3
TZNAME:CEST
TZOFFSETFROM:+0100
TZOFFSETTO:+0200
END:DAYLIGHT
BEGIN:STANDARD
DTSTART:19701025T030000
RRULE:FREQ=YEARLY;BYDAY=-1SU;BYMONTH=10
TZNAME:CET
TZOFFSETFROM:+0200
TZOFFSETTO:+0100
END:STANDARD
END:VTIMEZONE
END:VCALENDAR
