BEGIN:VCALENDAR
VERSION:2.0
PRODID:-//destination.one//NONSGML destination.meta API//DE
X-WR-CALDESC:A calendar powered by destination.meta
X-WR-CALNAME:teutonavigator Kalender via destination.meta
BEGIN:VEVENT
CATEGORIES:Sonstiges
DESCRIPTION:schnell • interaktiv • digital\n\nBereit für die ultimative Qui
 z-Herausforderung?\nErlebt das Kneipenquiz neu und modern. Quizmaster Cars
 ten führt euch durch drei aufregende Fragerunden\, mit Fragen aus verschie
 denen Kategorien.\n\nmehr Informationen unter http://pages.destination.one
 /de/teutonavigator/streaming/detail/Event/e_101254317/kneipenquiz-hotel-im
 -loh-espelkamp-ready-to-buzz
DTEND;TZID=Europe/Berlin:20260618T220000
DTSTAMP:20260422T170839Z
DTSTART;TZID=Europe/Berlin:20260618T173000
GEO:52.353263;8.672337
LOCATION:Hotel und Restaurant im Loh\, Diepenauer Straße 53\, Espelkamp
ORGANIZER;CN=Ready To Buzz:mailto:carsten.knittel@t-online.de
SEQUENCE:0
SUMMARY:Kneipenquiz Hotel im Loh Espelkamp "Ready To Buzz"
UID:e_101254317_iv0
URL:http://pages.destination.one/de/teutonavigator/streaming/detail/Event/e
 _101254317/kneipenquiz-hotel-im-loh-espelkamp-ready-to-buzz
END:VEVENT
BEGIN:VTIMEZONE
TZID:Europe/Berlin
X-LIC-LOCATION:Europe/Berlin
BEGIN:DAYLIGHT
DTSTART:19700329T020000
RRULE:FREQ=YEARLY;BYDAY=-1SU;BYMONTH=3
TZNAME:CEST
TZOFFSETFROM:+0100
TZOFFSETTO:+0200
END:DAYLIGHT
BEGIN:STANDARD
DTSTART:19701025T030000
RRULE:FREQ=YEARLY;BYDAY=-1SU;BYMONTH=10
TZNAME:CET
TZOFFSETFROM:+0200
TZOFFSETTO:+0100
END:STANDARD
END:VTIMEZONE
END:VCALENDAR
