BEGIN:VCALENDAR
VERSION:2.0
PRODID:-//destination.one//NONSGML destination.meta API//DE
X-WR-CALDESC:A calendar powered by destination.meta
X-WR-CALNAME:teutonavigator Kalender via destination.meta
BEGIN:VEVENT
CATEGORIES:Ausstellung
DESCRIPTION:Die Ausstellung "Zwischen den Zeilen" in Porta Westfalica eröff
 net faszinierende Kunstperspektiven.\n\nmehr Informationen unter http://pa
 ges.destination.one/de/teutonavigator/streaming/detail/Event/e_101253548/v
 ernissage-ausstellung-zwischen-den-zeilen
DTEND;TZID=Europe/Berlin:20260920T121500
DTSTAMP:20260421T213249Z
DTSTART;TZID=Europe/Berlin:20260920T111500
GEO:52.238187;8.922901
LOCATION:Rathaus Porta Westfalica\, Kempstraße 1\, Porta Westfalica
ORGANIZER;CN=Kunstkreis Porta Westfalica e.V.:mailto:info@kunstkreisportawe
 stfalica.de
SEQUENCE:0
SUMMARY:Vernissage Ausstellung "Zwischen den Zeilen"
UID:e_101253548_iv0
URL:http://pages.destination.one/de/teutonavigator/streaming/detail/Event/e
 _101253548/vernissage-ausstellung-zwischen-den-zeilen
END:VEVENT
BEGIN:VTIMEZONE
TZID:Europe/Berlin
X-LIC-LOCATION:Europe/Berlin
BEGIN:DAYLIGHT
DTSTART:19700329T020000
RRULE:FREQ=YEARLY;BYDAY=-1SU;BYMONTH=3
TZNAME:CEST
TZOFFSETFROM:+0100
TZOFFSETTO:+0200
END:DAYLIGHT
BEGIN:STANDARD
DTSTART:19701025T030000
RRULE:FREQ=YEARLY;BYDAY=-1SU;BYMONTH=10
TZNAME:CET
TZOFFSETFROM:+0200
TZOFFSETTO:+0100
END:STANDARD
END:VTIMEZONE
END:VCALENDAR
