BEGIN:VCALENDAR
VERSION:2.0
PRODID:-//destination.one//NONSGML destination.meta API//DE
X-WR-CALDESC:A calendar powered by destination.meta
X-WR-CALNAME:teutonavigator Kalender via destination.meta
BEGIN:VEVENT
CATEGORIES:Sport/Freizeit
DESCRIPTION:Der Höxteraner Hinterhof-Halbmarathon geht in die dritte Runde!
 \n\nmehr Informationen unter http://pages.destination.one/de/teutonavigato
 r/streaming/detail/Event/e_101246770/h-xteraner-hinterhof-halbmarathon
DTEND;TZID=Europe/Berlin;VALUE=DATE:20260614
DTSTAMP:20260421T192306Z
DTSTART;TZID=Europe/Berlin;VALUE=DATE:20260613
GEO:51.772925;9.381992
LOCATION:Höxter\, Uferstraße 2\, Höxter
SEQUENCE:0
SUMMARY:Höxteraner Hinterhof-Halbmarathon
UID:e_101246770_iv0
URL:http://pages.destination.one/de/teutonavigator/streaming/detail/Event/e
 _101246770/h-xteraner-hinterhof-halbmarathon
END:VEVENT
BEGIN:VTIMEZONE
TZID:Europe/Berlin
X-LIC-LOCATION:Europe/Berlin
BEGIN:DAYLIGHT
DTSTART:19700329T020000
RRULE:FREQ=YEARLY;BYDAY=-1SU;BYMONTH=3
TZNAME:CEST
TZOFFSETFROM:+0100
TZOFFSETTO:+0200
END:DAYLIGHT
BEGIN:STANDARD
DTSTART:19701025T030000
RRULE:FREQ=YEARLY;BYDAY=-1SU;BYMONTH=10
TZNAME:CET
TZOFFSETFROM:+0200
TZOFFSETTO:+0100
END:STANDARD
END:VTIMEZONE
END:VCALENDAR
