BEGIN:VCALENDAR
VERSION:2.0
PRODID:-//destination.one//NONSGML destination.meta API//DE
X-WR-CALDESC:A calendar powered by destination.meta
X-WR-CALNAME:teutonavigator Kalender via destination.meta
BEGIN:VEVENT
CATEGORIES:Ausstellung
DESCRIPTION:\n\nmehr Informationen unter http://pages.destination.one/de/te
 utonavigator/streaming/detail/Event/e_101244227/sonderausstellung-expediti
 on-schneeleo
DTEND;TZID=Europe/Berlin:20260327T170000
DTSTAMP:20260421T124252Z
DTSTART;TZID=Europe/Berlin:20260327T100000
GEO:52.023846;8.534781
LOCATION:Bielefeld\, Wilhelmstr. 3\, Bielefeld
ORGANIZER;CN=Naturkunde-Museum Bielefeld:mailto:veranstaltungen-naturkundem
 useum@bielefeld.de
RRULE:FREQ=DAILY;UNTIL=20260920T080000
SEQUENCE:0
SUMMARY:Sonderausstellung "Expedition Schneeleo"
UID:e_101244227_iv0
URL:http://pages.destination.one/de/teutonavigator/streaming/detail/Event/e
 _101244227/sonderausstellung-expedition-schneeleo
END:VEVENT
BEGIN:VTIMEZONE
TZID:Europe/Berlin
X-LIC-LOCATION:Europe/Berlin
BEGIN:DAYLIGHT
DTSTART:19700329T020000
RRULE:FREQ=YEARLY;BYDAY=-1SU;BYMONTH=3
TZNAME:CEST
TZOFFSETFROM:+0100
TZOFFSETTO:+0200
END:DAYLIGHT
BEGIN:STANDARD
DTSTART:19701025T030000
RRULE:FREQ=YEARLY;BYDAY=-1SU;BYMONTH=10
TZNAME:CET
TZOFFSETFROM:+0200
TZOFFSETTO:+0100
END:STANDARD
END:VTIMEZONE
END:VCALENDAR
