BEGIN:VCALENDAR
VERSION:2.0
PRODID:-//destination.one//NONSGML destination.meta API//DE
X-WR-CALDESC:A calendar powered by destination.meta
X-WR-CALNAME:teutonavigator Kalender via destination.meta
BEGIN:VEVENT
CATEGORIES:Pop
CATEGORIES:Stadtfest/Kirmes/Jahrmarkt
DESCRIPTION:Open-Air-Konzert auf dem Wilhelm-Kern-Platz: Beim Espelkamper S
 ommer steht Isaak auf der Bühne und bringt Pop-Sound mitten in die Stadt.\
 n\nMit großer Stimme und starken Songs sorgt der Espelkamper Sänger und So
 ngwriter für eine energiegeladene Atmosphäre unter freiem Himmel. Seine Hi
 ts verbinden eingängige Melodien mit spürbarer Bühnenpräsenz – ein Konzert
 erlebnis\, das direkt ins Ohr geht und das Publikum mitnimmt.\n\nDer Wilhe
 lm-Kern-Platz wird dabei zum Treffpunkt für Musikfans\, Freundeskreise und
  alle\, die einen Sommerabend mit Live-Musik genießen möchten. \n\nEintrit
 t frei!\n\nSponsoring: Volksbank Plus eG\n\nmehr Informationen unter http:
 //pages.destination.one/de/teutonavigator/streaming/detail/Event/e_1012285
 33/espelkamper-sommer-isaak-live-in-concert
DTEND;TZID=Europe/Berlin:20260613T220000
DTSTAMP:20260422T131428Z
DTSTART;TZID=Europe/Berlin:20260613T190000
GEO:52.376967;8.628887
LOCATION:Wilhelm-Kern-Platz\, Wilhelm-Kern-Platz\, Espelkamp
ORGANIZER;CN=Stadtmarketing Espelkamp e.V.:mailto:stadtmarketing@espelkamp.
 de
SEQUENCE:0
SUMMARY:Espelkamper Sommer - Isaak Live in Concert
UID:e_101228533_iv0
URL:http://pages.destination.one/de/teutonavigator/streaming/detail/Event/e
 _101228533/espelkamper-sommer-isaak-live-in-concert
END:VEVENT
BEGIN:VTIMEZONE
TZID:Europe/Berlin
X-LIC-LOCATION:Europe/Berlin
BEGIN:DAYLIGHT
DTSTART:19700329T020000
RRULE:FREQ=YEARLY;BYDAY=-1SU;BYMONTH=3
TZNAME:CEST
TZOFFSETFROM:+0100
TZOFFSETTO:+0200
END:DAYLIGHT
BEGIN:STANDARD
DTSTART:19701025T030000
RRULE:FREQ=YEARLY;BYDAY=-1SU;BYMONTH=10
TZNAME:CET
TZOFFSETFROM:+0200
TZOFFSETTO:+0100
END:STANDARD
END:VTIMEZONE
END:VCALENDAR
