BEGIN:VCALENDAR
VERSION:2.0
PRODID:-//destination.one//NONSGML destination.meta API//DE
X-WR-CALDESC:A calendar powered by destination.meta
X-WR-CALNAME:teutonavigator Kalender via destination.meta
BEGIN:VEVENT
CATEGORIES:Führung/Besichtigung
CATEGORIES:Wanderung
DESCRIPTION:\n\nmehr Informationen unter http://pages.destination.one/de/te
 utonavigator/streaming/detail/Event/e_101226224/wasser-wald-und-burg-natur
 kundliche-wanderung-mit-marcel-brand
DTEND;TZID=Europe/Berlin:20260718T130000
DTSTAMP:20260422T102926Z
DTSTART;TZID=Europe/Berlin:20260718T110000
GEO:51.876014;9.197563
LOCATION:Park- und Busparkplatz L 827 / L 886\, Mengersenstraße\, Schieder-
 Schwalenberg
SEQUENCE:0
SUMMARY:Wasser\, Wald und Burg: Naturkundliche Wanderung mit Marcel Brand
UID:e_101226224_iv0
URL:http://pages.destination.one/de/teutonavigator/streaming/detail/Event/e
 _101226224/wasser-wald-und-burg-naturkundliche-wanderung-mit-marcel-brand
END:VEVENT
BEGIN:VEVENT
CATEGORIES:Führung/Besichtigung
CATEGORIES:Wanderung
DESCRIPTION:\n\nmehr Informationen unter http://pages.destination.one/de/te
 utonavigator/streaming/detail/Event/e_101226224/wasser-wald-und-burg-natur
 kundliche-wanderung-mit-marcel-brand
DTEND;TZID=Europe/Berlin:20260829T130000
DTSTAMP:20260422T102926Z
DTSTART;TZID=Europe/Berlin:20260829T110000
GEO:51.876014;9.197563
LOCATION:Park- und Busparkplatz L 827 / L 886\, Mengersenstraße\, Schieder-
 Schwalenberg
SEQUENCE:0
SUMMARY:Wasser\, Wald und Burg: Naturkundliche Wanderung mit Marcel Brand
UID:e_101226224_iv1
URL:http://pages.destination.one/de/teutonavigator/streaming/detail/Event/e
 _101226224/wasser-wald-und-burg-naturkundliche-wanderung-mit-marcel-brand
END:VEVENT
BEGIN:VEVENT
CATEGORIES:Führung/Besichtigung
CATEGORIES:Wanderung
DESCRIPTION:\n\nmehr Informationen unter http://pages.destination.one/de/te
 utonavigator/streaming/detail/Event/e_101226224/wasser-wald-und-burg-natur
 kundliche-wanderung-mit-marcel-brand
DTEND;TZID=Europe/Berlin:20260919T130000
DTSTAMP:20260422T102926Z
DTSTART;TZID=Europe/Berlin:20260919T110000
GEO:51.876014;9.197563
LOCATION:Park- und Busparkplatz L 827 / L 886\, Mengersenstraße\, Schieder-
 Schwalenberg
SEQUENCE:0
SUMMARY:Wasser\, Wald und Burg: Naturkundliche Wanderung mit Marcel Brand
UID:e_101226224_iv2
URL:http://pages.destination.one/de/teutonavigator/streaming/detail/Event/e
 _101226224/wasser-wald-und-burg-naturkundliche-wanderung-mit-marcel-brand
END:VEVENT
BEGIN:VTIMEZONE
TZID:Europe/Berlin
X-LIC-LOCATION:Europe/Berlin
BEGIN:DAYLIGHT
DTSTART:19700329T020000
RRULE:FREQ=YEARLY;BYDAY=-1SU;BYMONTH=3
TZNAME:CEST
TZOFFSETFROM:+0100
TZOFFSETTO:+0200
END:DAYLIGHT
BEGIN:STANDARD
DTSTART:19701025T030000
RRULE:FREQ=YEARLY;BYDAY=-1SU;BYMONTH=10
TZNAME:CET
TZOFFSETFROM:+0200
TZOFFSETTO:+0100
END:STANDARD
END:VTIMEZONE
END:VCALENDAR
