BEGIN:VCALENDAR
VERSION:2.0
PRODID:-//destination.one//NONSGML destination.meta API//DE
X-WR-CALDESC:A calendar powered by destination.meta
X-WR-CALNAME:teutonavigator Kalender via destination.meta
BEGIN:VEVENT
CATEGORIES:Führung/Besichtigung
DESCRIPTION:Die Stadtwerke Schloß Holte-Stukenbrock öffnen wieder die Türen
  des Wasserwerks und laden alle Bürgerinnen und Bürger aus SHS zu spannend
 en Besichtigungen ein.\n\nmehr Informationen unter http://pages.destinatio
 n.one/de/teutonavigator/streaming/detail/Event/e_101226029/wasserwerksf-hr
 ung
DTEND;TZID=Europe/Berlin:20260609T193000
DTSTAMP:20260422T145719Z
DTSTART;TZID=Europe/Berlin:20260609T170000
GEO:51.914848;8.637010
LOCATION:Wasserwerk SHS\, Bielefelder Str. 9\, Schloß Holte-Stukenbrock
ORGANIZER;CN=Stadtwerke Schloß Holte-Stukenbrock GmbH:mailto:e.brock@stadtw
 erke-shs.de
SEQUENCE:0
SUMMARY:Wasserwerksführung
UID:e_101226029_iv0
URL:http://pages.destination.one/de/teutonavigator/streaming/detail/Event/e
 _101226029/wasserwerksf-hrung
END:VEVENT
BEGIN:VEVENT
CATEGORIES:Führung/Besichtigung
DESCRIPTION:Die Stadtwerke Schloß Holte-Stukenbrock öffnen wieder die Türen
  des Wasserwerks und laden alle Bürgerinnen und Bürger aus SHS zu spannend
 en Besichtigungen ein.\n\nmehr Informationen unter http://pages.destinatio
 n.one/de/teutonavigator/streaming/detail/Event/e_101226029/wasserwerksf-hr
 ung
DTEND;TZID=Europe/Berlin:20260707T193000
DTSTAMP:20260422T145719Z
DTSTART;TZID=Europe/Berlin:20260707T170000
GEO:51.914848;8.637010
LOCATION:Wasserwerk SHS\, Bielefelder Str. 9\, Schloß Holte-Stukenbrock
ORGANIZER;CN=Stadtwerke Schloß Holte-Stukenbrock GmbH:mailto:e.brock@stadtw
 erke-shs.de
SEQUENCE:0
SUMMARY:Wasserwerksführung
UID:e_101226029_iv1
URL:http://pages.destination.one/de/teutonavigator/streaming/detail/Event/e
 _101226029/wasserwerksf-hrung
END:VEVENT
BEGIN:VEVENT
CATEGORIES:Führung/Besichtigung
DESCRIPTION:Die Stadtwerke Schloß Holte-Stukenbrock öffnen wieder die Türen
  des Wasserwerks und laden alle Bürgerinnen und Bürger aus SHS zu spannend
 en Besichtigungen ein.\n\nmehr Informationen unter http://pages.destinatio
 n.one/de/teutonavigator/streaming/detail/Event/e_101226029/wasserwerksf-hr
 ung
DTEND;TZID=Europe/Berlin:20260716T203000
DTSTAMP:20260422T145719Z
DTSTART;TZID=Europe/Berlin:20260716T180000
GEO:51.914848;8.637010
LOCATION:Wasserwerk SHS\, Bielefelder Str. 9\, Schloß Holte-Stukenbrock
ORGANIZER;CN=Stadtwerke Schloß Holte-Stukenbrock GmbH:mailto:e.brock@stadtw
 erke-shs.de
SEQUENCE:0
SUMMARY:Wasserwerksführung
UID:e_101226029_iv2
URL:http://pages.destination.one/de/teutonavigator/streaming/detail/Event/e
 _101226029/wasserwerksf-hrung
END:VEVENT
BEGIN:VEVENT
CATEGORIES:Führung/Besichtigung
DESCRIPTION:Die Stadtwerke Schloß Holte-Stukenbrock öffnen wieder die Türen
  des Wasserwerks und laden alle Bürgerinnen und Bürger aus SHS zu spannend
 en Besichtigungen ein.\n\nmehr Informationen unter http://pages.destinatio
 n.one/de/teutonavigator/streaming/detail/Event/e_101226029/wasserwerksf-hr
 ung
DTEND;TZID=Europe/Berlin:20260902T193000
DTSTAMP:20260422T145719Z
DTSTART;TZID=Europe/Berlin:20260902T170000
GEO:51.914848;8.637010
LOCATION:Wasserwerk SHS\, Bielefelder Str. 9\, Schloß Holte-Stukenbrock
ORGANIZER;CN=Stadtwerke Schloß Holte-Stukenbrock GmbH:mailto:e.brock@stadtw
 erke-shs.de
SEQUENCE:0
SUMMARY:Wasserwerksführung
UID:e_101226029_iv3
URL:http://pages.destination.one/de/teutonavigator/streaming/detail/Event/e
 _101226029/wasserwerksf-hrung
END:VEVENT
BEGIN:VTIMEZONE
TZID:Europe/Berlin
X-LIC-LOCATION:Europe/Berlin
BEGIN:DAYLIGHT
DTSTART:19700329T020000
RRULE:FREQ=YEARLY;BYDAY=-1SU;BYMONTH=3
TZNAME:CEST
TZOFFSETFROM:+0100
TZOFFSETTO:+0200
END:DAYLIGHT
BEGIN:STANDARD
DTSTART:19701025T030000
RRULE:FREQ=YEARLY;BYDAY=-1SU;BYMONTH=10
TZNAME:CET
TZOFFSETFROM:+0200
TZOFFSETTO:+0100
END:STANDARD
END:VTIMEZONE
END:VCALENDAR
