BEGIN:VCALENDAR
VERSION:2.0
PRODID:-//destination.one//NONSGML destination.meta API//DE
X-WR-CALDESC:A calendar powered by destination.meta
X-WR-CALNAME:teutonavigator Kalender via destination.meta
BEGIN:VEVENT
CATEGORIES:Sport/Freizeit
CATEGORIES:Kabarett
DESCRIPTION:Es darf gefeiert werden: Nach Pausenhof\, Pickeln und Planung d
 er Familie haben wir das Schlimmste hinter uns und sind immer noch da! Die
  Werbung nennt uns „Best Ager“ und die Welt steht uns offen\, solange wir 
 über das nötige Kleingeld verfügen.\n\nmehr Informationen unter http://pag
 es.destination.one/de/teutonavigator/streaming/detail/Event/e_101225760/da
 gmar-sch-nleber-endlich-50
DTEND;TZID=Europe/Berlin:20261119T235900
DTSTAMP:20260421T190531Z
DTSTART;TZID=Europe/Berlin:20261119T200000
GEO:52.081591;8.741239
LOCATION:Bahnhof Bad Salzuflen\, Am Bahnhof 41\, Bad Salzuflen
RRULE:FREQ=WEEKLY;UNTIL=20261119T230000;BYDAY=TH
SEQUENCE:0
SUMMARY:Dagmar Schönleber: Endlich 50!
UID:e_101225760_iv0
URL:http://pages.destination.one/de/teutonavigator/streaming/detail/Event/e
 _101225760/dagmar-sch-nleber-endlich-50
END:VEVENT
BEGIN:VTIMEZONE
TZID:Europe/Berlin
X-LIC-LOCATION:Europe/Berlin
BEGIN:DAYLIGHT
DTSTART:19700329T020000
RRULE:FREQ=YEARLY;BYDAY=-1SU;BYMONTH=3
TZNAME:CEST
TZOFFSETFROM:+0100
TZOFFSETTO:+0200
END:DAYLIGHT
BEGIN:STANDARD
DTSTART:19701025T030000
RRULE:FREQ=YEARLY;BYDAY=-1SU;BYMONTH=10
TZNAME:CET
TZOFFSETFROM:+0200
TZOFFSETTO:+0100
END:STANDARD
END:VTIMEZONE
END:VCALENDAR
