BEGIN:VCALENDAR
VERSION:2.0
PRODID:-//destination.one//NONSGML destination.meta API//DE
X-WR-CALDESC:A calendar powered by destination.meta
X-WR-CALNAME:teutonavigator Kalender via destination.meta
BEGIN:VEVENT
CATEGORIES:Sport/Freizeit
CATEGORIES:Brauchtum/Kultur
DESCRIPTION:Die 31. Bundeskunstausstellung der Stiftungsfamilie BSW/EWH fin
 det in den nächsten Monaten im BSW-Hotel Villa Dürkopp in Bad Salzuflen st
 att\n\nmehr Informationen unter http://pages.destination.one/de/teutonavig
 ator/streaming/detail/Event/e_101225757/31-bundeskunstausstellung-der-stif
 tungsfamilie-bsw-ewh
DTEND;TZID=Europe/Berlin;VALUE=DATE:20260307
DTSTAMP:20260421T214721Z
DTSTART;TZID=Europe/Berlin;VALUE=DATE:20260306
GEO:52.092364;8.747613
LOCATION:Stiftung Bahn-Sozialwerk (BSW)\, Obernbergstraße 2\, Bad Salzuflen
ORGANIZER;CN=Hotel Villa Dürkopp:mailto:villaduerkopp@stiftungsfamilie.de
PRIORITY:4
RRULE:FREQ=WEEKLY;UNTIL=20260908T220000;BYDAY=MO,TU,WE,TH,FR,SA,SU
SEQUENCE:0
SUMMARY:31. Bundeskunstausstellung der Stiftungsfamilie BSW/EWH
UID:e_101225757_iv0
URL:http://pages.destination.one/de/teutonavigator/streaming/detail/Event/e
 _101225757/31-bundeskunstausstellung-der-stiftungsfamilie-bsw-ewh
END:VEVENT
BEGIN:VTIMEZONE
TZID:Europe/Berlin
X-LIC-LOCATION:Europe/Berlin
BEGIN:DAYLIGHT
DTSTART:19700329T020000
RRULE:FREQ=YEARLY;BYDAY=-1SU;BYMONTH=3
TZNAME:CEST
TZOFFSETFROM:+0100
TZOFFSETTO:+0200
END:DAYLIGHT
BEGIN:STANDARD
DTSTART:19701025T030000
RRULE:FREQ=YEARLY;BYDAY=-1SU;BYMONTH=10
TZNAME:CET
TZOFFSETFROM:+0200
TZOFFSETTO:+0100
END:STANDARD
END:VTIMEZONE
END:VCALENDAR
