BEGIN:VCALENDAR
VERSION:2.0
PRODID:-//destination.one//NONSGML destination.meta API//DE
X-WR-CALDESC:A calendar powered by destination.meta
X-WR-CALNAME:teutonavigator Kalender via destination.meta
BEGIN:VEVENT
CATEGORIES:Festival/Open-Air
CATEGORIES:Sport/Freizeit
CATEGORIES:Stadtfest/Kirmes/Jahrmarkt
CATEGORIES:Sonstiges
DESCRIPTION:Bestseller-Autorin Gisa Pauly liest aus „Windjammer“ – dem 20. 
 Fall von Mamma Carlotta\n Am Freitag\, den 26. Juni 2026 liest ab 19:00 Uh
 r Bestseller-Autorin Gisa Pauly aus „Windjammer“\, dem 20. und aktuellsten
  Band ihrer beliebten Reihe um die Hobby-Ermittlerin Mamma Carlotta.\n\nme
 hr Informationen unter http://pages.destination.one/de/teutonavigator/stre
 aming/detail/Event/e_101225755/lesung-aus-windjammer
DTEND;TZID=Europe/Berlin:20260626T235900
DTSTAMP:20260422T143953Z
DTSTART;TZID=Europe/Berlin:20260626T190000
GEO:52.082187;8.748461
LOCATION:Stadtbücherei Bad Salzuflen\, Osterstr. 52-54\, Bad Salzuflen
ORGANIZER;CN=Stadtbücherei Bad Salzuflen:mailto:stadtbuecherei@bad-salzufle
 n.de
RRULE:FREQ=WEEKLY;UNTIL=20260626T220000;BYDAY=FR
SEQUENCE:0
SUMMARY:Lesung aus "Windjammer"
UID:e_101225755_iv0
URL:http://pages.destination.one/de/teutonavigator/streaming/detail/Event/e
 _101225755/lesung-aus-windjammer
END:VEVENT
BEGIN:VTIMEZONE
TZID:Europe/Berlin
X-LIC-LOCATION:Europe/Berlin
BEGIN:DAYLIGHT
DTSTART:19700329T020000
RRULE:FREQ=YEARLY;BYDAY=-1SU;BYMONTH=3
TZNAME:CEST
TZOFFSETFROM:+0100
TZOFFSETTO:+0200
END:DAYLIGHT
BEGIN:STANDARD
DTSTART:19701025T030000
RRULE:FREQ=YEARLY;BYDAY=-1SU;BYMONTH=10
TZNAME:CET
TZOFFSETFROM:+0200
TZOFFSETTO:+0100
END:STANDARD
END:VTIMEZONE
END:VCALENDAR
