BEGIN:VCALENDAR
VERSION:2.0
PRODID:-//destination.one//NONSGML destination.meta API//DE
X-WR-CALDESC:A calendar powered by destination.meta
X-WR-CALNAME:teutonavigator Kalender via destination.meta
BEGIN:VEVENT
CATEGORIES:Party/Nightlife
CATEGORIES:Konzert divers
CATEGORIES:Brauchtum/Kultur
DESCRIPTION:Metalcore / Modern Metal Konzert\n\nmehr Informationen unter ht
 tp://pages.destination.one/de/teutonavigator/streaming/detail/Event/e_1012
 25751/spring-breakdown-bielefeld-2026
DTEND;TZID=Europe/Berlin:20260502T233000
DTSTAMP:20260424T141620Z
DTSTART;TZID=Europe/Berlin:20260502T190000
GEO:51.989399;8.499154
LOCATION:Jugendzentrum Stricker\, Gaswerkstr. 39\, Bielefeld
SEQUENCE:0
SUMMARY:Spring Breakdown Bielefeld 2026
UID:e_101225751_iv0
URL:http://pages.destination.one/de/teutonavigator/streaming/detail/Event/e
 _101225751/spring-breakdown-bielefeld-2026
END:VEVENT
BEGIN:VTIMEZONE
TZID:Europe/Berlin
X-LIC-LOCATION:Europe/Berlin
BEGIN:DAYLIGHT
DTSTART:19700329T020000
RRULE:FREQ=YEARLY;BYDAY=-1SU;BYMONTH=3
TZNAME:CEST
TZOFFSETFROM:+0100
TZOFFSETTO:+0200
END:DAYLIGHT
BEGIN:STANDARD
DTSTART:19701025T030000
RRULE:FREQ=YEARLY;BYDAY=-1SU;BYMONTH=10
TZNAME:CET
TZOFFSETFROM:+0200
TZOFFSETTO:+0100
END:STANDARD
END:VTIMEZONE
END:VCALENDAR
