BEGIN:VCALENDAR
VERSION:2.0
PRODID:-//destination.one//NONSGML destination.meta API//DE
X-WR-CALDESC:A calendar powered by destination.meta
X-WR-CALNAME:teutonavigator Kalender via destination.meta
BEGIN:VEVENT
CATEGORIES:Sport/Freizeit
DESCRIPTION:Strecke ca. 25 km mit Einkehr\n\nmehr Informationen unter http:
 //pages.destination.one/de/teutonavigator/streaming/detail/Event/e_1012257
 24/kleine-radtour-durch-die-senne
DTEND;TZID=Europe/Berlin:20260426T160000
DTSTAMP:20260421T181630Z
DTSTART;TZID=Europe/Berlin:20260426T110000
GEO:51.945223;8.583590
LOCATION:Sennestadthaus\, Lindemann-Platz 3\, Bielefeld
SEQUENCE:0
SUMMARY:Kleine Radtour durch die Senne
UID:e_101225724_iv0
URL:http://pages.destination.one/de/teutonavigator/streaming/detail/Event/e
 _101225724/kleine-radtour-durch-die-senne
END:VEVENT
BEGIN:VTIMEZONE
TZID:Europe/Berlin
X-LIC-LOCATION:Europe/Berlin
BEGIN:DAYLIGHT
DTSTART:19700329T020000
RRULE:FREQ=YEARLY;BYDAY=-1SU;BYMONTH=3
TZNAME:CEST
TZOFFSETFROM:+0100
TZOFFSETTO:+0200
END:DAYLIGHT
BEGIN:STANDARD
DTSTART:19701025T030000
RRULE:FREQ=YEARLY;BYDAY=-1SU;BYMONTH=10
TZNAME:CET
TZOFFSETFROM:+0200
TZOFFSETTO:+0100
END:STANDARD
END:VTIMEZONE
END:VCALENDAR
