BEGIN:VCALENDAR
VERSION:2.0
PRODID:-//destination.one//NONSGML destination.meta API//DE
X-WR-CALDESC:A calendar powered by destination.meta
X-WR-CALNAME:teutonavigator Kalender via destination.meta
BEGIN:VEVENT
CATEGORIES:Konzert divers
CATEGORIES:Brauchtum/Kultur
DESCRIPTION:Konzert der Bielefelder Band INJOYY\n\nmehr Informationen unter
  http://pages.destination.one/de/teutonavigator/streaming/detail/Event/e_1
 01225711/klezmer-meets-irish-folk
DTEND;TZID=Europe/Berlin:20260426T183000
DTSTAMP:20260423T081208Z
DTSTART;TZID=Europe/Berlin:20260426T170000
GEO:52.032769;8.603167
LOCATION:Peter-und-Pauls-Kirche Heepen (ev.)\, Heeper Straße 439\, Bielefel
 d
PRIORITY:4
SEQUENCE:0
SUMMARY:Klezmer meets Irish Folk
UID:e_101225711_iv0
URL:http://pages.destination.one/de/teutonavigator/streaming/detail/Event/e
 _101225711/klezmer-meets-irish-folk
END:VEVENT
BEGIN:VTIMEZONE
TZID:Europe/Berlin
X-LIC-LOCATION:Europe/Berlin
BEGIN:DAYLIGHT
DTSTART:19700329T020000
RRULE:FREQ=YEARLY;BYDAY=-1SU;BYMONTH=3
TZNAME:CEST
TZOFFSETFROM:+0100
TZOFFSETTO:+0200
END:DAYLIGHT
BEGIN:STANDARD
DTSTART:19701025T030000
RRULE:FREQ=YEARLY;BYDAY=-1SU;BYMONTH=10
TZNAME:CET
TZOFFSETFROM:+0200
TZOFFSETTO:+0100
END:STANDARD
END:VTIMEZONE
END:VCALENDAR
