BEGIN:VCALENDAR
VERSION:2.0
PRODID:-//destination.one//NONSGML destination.meta API//DE
X-WR-CALDESC:A calendar powered by destination.meta
X-WR-CALNAME:teutonavigator Kalender via destination.meta
BEGIN:VEVENT
CATEGORIES:Brauchtum/Kultur
CATEGORIES:Ausstellung
DESCRIPTION:Kunstausstellung von Laura Beermann\n\nmehr Informationen unter
  http://pages.destination.one/de/teutonavigator/streaming/detail/Event/e_1
 01225692/let-s-sit-down-and-eat
DTEND;TZID=Europe/Berlin:20260509T130000
DTSTAMP:20260422T143612Z
DTSTART;TZID=Europe/Berlin:20260509T110000
GEO:51.990700;8.506560
LOCATION:Brackwede Rathaus-Pavillon\, Germanenstraße 22\, Bielefeld
SEQUENCE:0
SUMMARY:Let´s sit down and eat
UID:e_101225692_iv0
URL:http://pages.destination.one/de/teutonavigator/streaming/detail/Event/e
 _101225692/let-s-sit-down-and-eat
END:VEVENT
BEGIN:VEVENT
CATEGORIES:Brauchtum/Kultur
CATEGORIES:Ausstellung
DESCRIPTION:Kunstausstellung von Laura Beermann\n\nmehr Informationen unter
  http://pages.destination.one/de/teutonavigator/streaming/detail/Event/e_1
 01225692/let-s-sit-down-and-eat
DTEND;TZID=Europe/Berlin:20260514T183000
DTSTAMP:20260422T143612Z
DTSTART;TZID=Europe/Berlin:20260514T163000
GEO:51.990700;8.506560
LOCATION:Brackwede Rathaus-Pavillon\, Germanenstraße 22\, Bielefeld
SEQUENCE:0
SUMMARY:Let´s sit down and eat
UID:e_101225692_iv1
URL:http://pages.destination.one/de/teutonavigator/streaming/detail/Event/e
 _101225692/let-s-sit-down-and-eat
END:VEVENT
BEGIN:VEVENT
CATEGORIES:Brauchtum/Kultur
CATEGORIES:Ausstellung
DESCRIPTION:Kunstausstellung von Laura Beermann\n\nmehr Informationen unter
  http://pages.destination.one/de/teutonavigator/streaming/detail/Event/e_1
 01225692/let-s-sit-down-and-eat
DTEND;TZID=Europe/Berlin:20260515T183000
DTSTAMP:20260422T143612Z
DTSTART;TZID=Europe/Berlin:20260515T163000
GEO:51.990700;8.506560
LOCATION:Brackwede Rathaus-Pavillon\, Germanenstraße 22\, Bielefeld
SEQUENCE:0
SUMMARY:Let´s sit down and eat
UID:e_101225692_iv2
URL:http://pages.destination.one/de/teutonavigator/streaming/detail/Event/e
 _101225692/let-s-sit-down-and-eat
END:VEVENT
BEGIN:VEVENT
CATEGORIES:Brauchtum/Kultur
CATEGORIES:Ausstellung
DESCRIPTION:Kunstausstellung von Laura Beermann\n\nmehr Informationen unter
  http://pages.destination.one/de/teutonavigator/streaming/detail/Event/e_1
 01225692/let-s-sit-down-and-eat
DTEND;TZID=Europe/Berlin:20260516T160000
DTSTAMP:20260422T143612Z
DTSTART;TZID=Europe/Berlin:20260516T140000
GEO:51.990700;8.506560
LOCATION:Brackwede Rathaus-Pavillon\, Germanenstraße 22\, Bielefeld
SEQUENCE:0
SUMMARY:Let´s sit down and eat
UID:e_101225692_iv3
URL:http://pages.destination.one/de/teutonavigator/streaming/detail/Event/e
 _101225692/let-s-sit-down-and-eat
END:VEVENT
BEGIN:VEVENT
CATEGORIES:Brauchtum/Kultur
CATEGORIES:Ausstellung
DESCRIPTION:Kunstausstellung von Laura Beermann\n\nmehr Informationen unter
  http://pages.destination.one/de/teutonavigator/streaming/detail/Event/e_1
 01225692/let-s-sit-down-and-eat
DTEND;TZID=Europe/Berlin:20260521T183000
DTSTAMP:20260422T143612Z
DTSTART;TZID=Europe/Berlin:20260521T163000
GEO:51.990700;8.506560
LOCATION:Brackwede Rathaus-Pavillon\, Germanenstraße 22\, Bielefeld
SEQUENCE:0
SUMMARY:Let´s sit down and eat
UID:e_101225692_iv4
URL:http://pages.destination.one/de/teutonavigator/streaming/detail/Event/e
 _101225692/let-s-sit-down-and-eat
END:VEVENT
BEGIN:VEVENT
CATEGORIES:Brauchtum/Kultur
CATEGORIES:Ausstellung
DESCRIPTION:Kunstausstellung von Laura Beermann\n\nmehr Informationen unter
  http://pages.destination.one/de/teutonavigator/streaming/detail/Event/e_1
 01225692/let-s-sit-down-and-eat
DTEND;TZID=Europe/Berlin:20260522T183000
DTSTAMP:20260422T143612Z
DTSTART;TZID=Europe/Berlin:20260522T163000
GEO:51.990700;8.506560
LOCATION:Brackwede Rathaus-Pavillon\, Germanenstraße 22\, Bielefeld
SEQUENCE:0
SUMMARY:Let´s sit down and eat
UID:e_101225692_iv5
URL:http://pages.destination.one/de/teutonavigator/streaming/detail/Event/e
 _101225692/let-s-sit-down-and-eat
END:VEVENT
BEGIN:VEVENT
CATEGORIES:Brauchtum/Kultur
CATEGORIES:Ausstellung
DESCRIPTION:Kunstausstellung von Laura Beermann\n\nmehr Informationen unter
  http://pages.destination.one/de/teutonavigator/streaming/detail/Event/e_1
 01225692/let-s-sit-down-and-eat
DTEND;TZID=Europe/Berlin:20260523T160000
DTSTAMP:20260422T143612Z
DTSTART;TZID=Europe/Berlin:20260523T140000
GEO:51.990700;8.506560
LOCATION:Brackwede Rathaus-Pavillon\, Germanenstraße 22\, Bielefeld
SEQUENCE:0
SUMMARY:Let´s sit down and eat
UID:e_101225692_iv6
URL:http://pages.destination.one/de/teutonavigator/streaming/detail/Event/e
 _101225692/let-s-sit-down-and-eat
END:VEVENT
BEGIN:VEVENT
CATEGORIES:Brauchtum/Kultur
CATEGORIES:Ausstellung
DESCRIPTION:Kunstausstellung von Laura Beermann\n\nmehr Informationen unter
  http://pages.destination.one/de/teutonavigator/streaming/detail/Event/e_1
 01225692/let-s-sit-down-and-eat
DTEND;TZID=Europe/Berlin:20260528T183000
DTSTAMP:20260422T143612Z
DTSTART;TZID=Europe/Berlin:20260528T163000
GEO:51.990700;8.506560
LOCATION:Brackwede Rathaus-Pavillon\, Germanenstraße 22\, Bielefeld
SEQUENCE:0
SUMMARY:Let´s sit down and eat
UID:e_101225692_iv7
URL:http://pages.destination.one/de/teutonavigator/streaming/detail/Event/e
 _101225692/let-s-sit-down-and-eat
END:VEVENT
BEGIN:VEVENT
CATEGORIES:Brauchtum/Kultur
CATEGORIES:Ausstellung
DESCRIPTION:Kunstausstellung von Laura Beermann\n\nmehr Informationen unter
  http://pages.destination.one/de/teutonavigator/streaming/detail/Event/e_1
 01225692/let-s-sit-down-and-eat
DTEND;TZID=Europe/Berlin:20260529T183000
DTSTAMP:20260422T143612Z
DTSTART;TZID=Europe/Berlin:20260529T163000
GEO:51.990700;8.506560
LOCATION:Brackwede Rathaus-Pavillon\, Germanenstraße 22\, Bielefeld
SEQUENCE:0
SUMMARY:Let´s sit down and eat
UID:e_101225692_iv8
URL:http://pages.destination.one/de/teutonavigator/streaming/detail/Event/e
 _101225692/let-s-sit-down-and-eat
END:VEVENT
BEGIN:VEVENT
CATEGORIES:Brauchtum/Kultur
CATEGORIES:Ausstellung
DESCRIPTION:Kunstausstellung von Laura Beermann\n\nmehr Informationen unter
  http://pages.destination.one/de/teutonavigator/streaming/detail/Event/e_1
 01225692/let-s-sit-down-and-eat
DTEND;TZID=Europe/Berlin:20260530T160000
DTSTAMP:20260422T143612Z
DTSTART;TZID=Europe/Berlin:20260530T140000
GEO:51.990700;8.506560
LOCATION:Brackwede Rathaus-Pavillon\, Germanenstraße 22\, Bielefeld
SEQUENCE:0
SUMMARY:Let´s sit down and eat
UID:e_101225692_iv9
URL:http://pages.destination.one/de/teutonavigator/streaming/detail/Event/e
 _101225692/let-s-sit-down-and-eat
END:VEVENT
BEGIN:VTIMEZONE
TZID:Europe/Berlin
X-LIC-LOCATION:Europe/Berlin
BEGIN:DAYLIGHT
DTSTART:19700329T020000
RRULE:FREQ=YEARLY;BYDAY=-1SU;BYMONTH=3
TZNAME:CEST
TZOFFSETFROM:+0100
TZOFFSETTO:+0200
END:DAYLIGHT
BEGIN:STANDARD
DTSTART:19701025T030000
RRULE:FREQ=YEARLY;BYDAY=-1SU;BYMONTH=10
TZNAME:CET
TZOFFSETFROM:+0200
TZOFFSETTO:+0100
END:STANDARD
END:VTIMEZONE
END:VCALENDAR
