BEGIN:VCALENDAR
VERSION:2.0
PRODID:-//destination.one//NONSGML destination.meta API//DE
X-WR-CALDESC:A calendar powered by destination.meta
X-WR-CALNAME:teutonavigator Kalender via destination.meta
BEGIN:VEVENT
CATEGORIES:Sonstiges
CATEGORIES:Party/Nightlife
CATEGORIES:Konzert divers
CATEGORIES:Brauchtum/Kultur
DESCRIPTION:Stimmige Vibes aus vier Kehlen\n\nmehr Informationen unter http
 ://pages.destination.one/de/teutonavigator/streaming/detail/Event/e_101225
 678/vierweiberei-die-a-cappella-band-aus-bielefeld
DTEND;TZID=Europe/Berlin:20260418T220000
DTSTAMP:20260421T174743Z
DTSTART;TZID=Europe/Berlin:20260418T200000
GEO:52.027341;8.533899
LOCATION:Theaterhaus Feilenstraße\, Feilenstr. 4\, Bielefeld
SEQUENCE:0
SUMMARY:Vierweiberei – Die A-cappella-Band aus Bielefeld
UID:e_101225678_iv0
URL:http://pages.destination.one/de/teutonavigator/streaming/detail/Event/e
 _101225678/vierweiberei-die-a-cappella-band-aus-bielefeld
END:VEVENT
BEGIN:VTIMEZONE
TZID:Europe/Berlin
X-LIC-LOCATION:Europe/Berlin
BEGIN:DAYLIGHT
DTSTART:19700329T020000
RRULE:FREQ=YEARLY;BYDAY=-1SU;BYMONTH=3
TZNAME:CEST
TZOFFSETFROM:+0100
TZOFFSETTO:+0200
END:DAYLIGHT
BEGIN:STANDARD
DTSTART:19701025T030000
RRULE:FREQ=YEARLY;BYDAY=-1SU;BYMONTH=10
TZNAME:CET
TZOFFSETFROM:+0200
TZOFFSETTO:+0100
END:STANDARD
END:VTIMEZONE
END:VCALENDAR
