BEGIN:VCALENDAR
VERSION:2.0
PRODID:-//destination.one//NONSGML destination.meta API//DE
X-WR-CALDESC:A calendar powered by destination.meta
X-WR-CALNAME:teutonavigator Kalender via destination.meta
BEGIN:VEVENT
CATEGORIES:Sonstiges
CATEGORIES:Markt
DESCRIPTION:Stoffe fühlen\, Inspiration finden und eine tolle Beratung geni
 eßen\n\nmehr Informationen unter http://pages.destination.one/de/teutonavi
 gator/streaming/detail/Event/e_101225674/lagerverkauf-f-r-stoffe-ostwestf-
 lische-geschenke
DTEND;TZID=Europe/Berlin:20260306T180000
DTSTAMP:20260421T204211Z
DTSTART;TZID=Europe/Berlin:20260306T140000
GEO:52.043160;8.615030
LOCATION:Bielefeld-Heepen\, \, Bielefeld
SEQUENCE:0
SUMMARY:Lagerverkauf für Stoffe & ostwestfälische Geschenke
UID:e_101225674_iv0
URL:http://pages.destination.one/de/teutonavigator/streaming/detail/Event/e
 _101225674/lagerverkauf-f-r-stoffe-ostwestf-lische-geschenke
END:VEVENT
BEGIN:VEVENT
CATEGORIES:Sonstiges
CATEGORIES:Markt
DESCRIPTION:Stoffe fühlen\, Inspiration finden und eine tolle Beratung geni
 eßen\n\nmehr Informationen unter http://pages.destination.one/de/teutonavi
 gator/streaming/detail/Event/e_101225674/lagerverkauf-f-r-stoffe-ostwestf-
 lische-geschenke
DTEND;TZID=Europe/Berlin:20260307T140000
DTSTAMP:20260421T204211Z
DTSTART;TZID=Europe/Berlin:20260307T093000
GEO:52.043160;8.615030
LOCATION:Bielefeld-Heepen\, \, Bielefeld
SEQUENCE:0
SUMMARY:Lagerverkauf für Stoffe & ostwestfälische Geschenke
UID:e_101225674_iv1
URL:http://pages.destination.one/de/teutonavigator/streaming/detail/Event/e
 _101225674/lagerverkauf-f-r-stoffe-ostwestf-lische-geschenke
END:VEVENT
BEGIN:VEVENT
CATEGORIES:Sonstiges
CATEGORIES:Markt
DESCRIPTION:Stoffe fühlen\, Inspiration finden und eine tolle Beratung geni
 eßen\n\nmehr Informationen unter http://pages.destination.one/de/teutonavi
 gator/streaming/detail/Event/e_101225674/lagerverkauf-f-r-stoffe-ostwestf-
 lische-geschenke
DTEND;TZID=Europe/Berlin:20260410T180000
DTSTAMP:20260421T204211Z
DTSTART;TZID=Europe/Berlin:20260410T140000
GEO:52.043160;8.615030
LOCATION:Bielefeld-Heepen\, \, Bielefeld
SEQUENCE:0
SUMMARY:Lagerverkauf für Stoffe & ostwestfälische Geschenke
UID:e_101225674_iv2
URL:http://pages.destination.one/de/teutonavigator/streaming/detail/Event/e
 _101225674/lagerverkauf-f-r-stoffe-ostwestf-lische-geschenke
END:VEVENT
BEGIN:VEVENT
CATEGORIES:Sonstiges
CATEGORIES:Markt
DESCRIPTION:Stoffe fühlen\, Inspiration finden und eine tolle Beratung geni
 eßen\n\nmehr Informationen unter http://pages.destination.one/de/teutonavi
 gator/streaming/detail/Event/e_101225674/lagerverkauf-f-r-stoffe-ostwestf-
 lische-geschenke
DTEND;TZID=Europe/Berlin:20260411T140000
DTSTAMP:20260421T204211Z
DTSTART;TZID=Europe/Berlin:20260411T093000
GEO:52.043160;8.615030
LOCATION:Bielefeld-Heepen\, \, Bielefeld
SEQUENCE:0
SUMMARY:Lagerverkauf für Stoffe & ostwestfälische Geschenke
UID:e_101225674_iv3
URL:http://pages.destination.one/de/teutonavigator/streaming/detail/Event/e
 _101225674/lagerverkauf-f-r-stoffe-ostwestf-lische-geschenke
END:VEVENT
BEGIN:VEVENT
CATEGORIES:Sonstiges
CATEGORIES:Markt
DESCRIPTION:Stoffe fühlen\, Inspiration finden und eine tolle Beratung geni
 eßen\n\nmehr Informationen unter http://pages.destination.one/de/teutonavi
 gator/streaming/detail/Event/e_101225674/lagerverkauf-f-r-stoffe-ostwestf-
 lische-geschenke
DTEND;TZID=Europe/Berlin:20260508T180000
DTSTAMP:20260421T204211Z
DTSTART;TZID=Europe/Berlin:20260508T140000
GEO:52.043160;8.615030
LOCATION:Bielefeld-Heepen\, \, Bielefeld
SEQUENCE:0
SUMMARY:Lagerverkauf für Stoffe & ostwestfälische Geschenke
UID:e_101225674_iv4
URL:http://pages.destination.one/de/teutonavigator/streaming/detail/Event/e
 _101225674/lagerverkauf-f-r-stoffe-ostwestf-lische-geschenke
END:VEVENT
BEGIN:VEVENT
CATEGORIES:Sonstiges
CATEGORIES:Markt
DESCRIPTION:Stoffe fühlen\, Inspiration finden und eine tolle Beratung geni
 eßen\n\nmehr Informationen unter http://pages.destination.one/de/teutonavi
 gator/streaming/detail/Event/e_101225674/lagerverkauf-f-r-stoffe-ostwestf-
 lische-geschenke
DTEND;TZID=Europe/Berlin:20260509T140000
DTSTAMP:20260421T204211Z
DTSTART;TZID=Europe/Berlin:20260509T093000
GEO:52.043160;8.615030
LOCATION:Bielefeld-Heepen\, \, Bielefeld
SEQUENCE:0
SUMMARY:Lagerverkauf für Stoffe & ostwestfälische Geschenke
UID:e_101225674_iv5
URL:http://pages.destination.one/de/teutonavigator/streaming/detail/Event/e
 _101225674/lagerverkauf-f-r-stoffe-ostwestf-lische-geschenke
END:VEVENT
BEGIN:VEVENT
CATEGORIES:Sonstiges
CATEGORIES:Markt
DESCRIPTION:Stoffe fühlen\, Inspiration finden und eine tolle Beratung geni
 eßen\n\nmehr Informationen unter http://pages.destination.one/de/teutonavi
 gator/streaming/detail/Event/e_101225674/lagerverkauf-f-r-stoffe-ostwestf-
 lische-geschenke
DTEND;TZID=Europe/Berlin:20260605T180000
DTSTAMP:20260421T204211Z
DTSTART;TZID=Europe/Berlin:20260605T140000
GEO:52.043160;8.615030
LOCATION:Bielefeld-Heepen\, \, Bielefeld
SEQUENCE:0
SUMMARY:Lagerverkauf für Stoffe & ostwestfälische Geschenke
UID:e_101225674_iv6
URL:http://pages.destination.one/de/teutonavigator/streaming/detail/Event/e
 _101225674/lagerverkauf-f-r-stoffe-ostwestf-lische-geschenke
END:VEVENT
BEGIN:VEVENT
CATEGORIES:Sonstiges
CATEGORIES:Markt
DESCRIPTION:Stoffe fühlen\, Inspiration finden und eine tolle Beratung geni
 eßen\n\nmehr Informationen unter http://pages.destination.one/de/teutonavi
 gator/streaming/detail/Event/e_101225674/lagerverkauf-f-r-stoffe-ostwestf-
 lische-geschenke
DTEND;TZID=Europe/Berlin:20260606T140000
DTSTAMP:20260421T204211Z
DTSTART;TZID=Europe/Berlin:20260606T093000
GEO:52.043160;8.615030
LOCATION:Bielefeld-Heepen\, \, Bielefeld
SEQUENCE:0
SUMMARY:Lagerverkauf für Stoffe & ostwestfälische Geschenke
UID:e_101225674_iv7
URL:http://pages.destination.one/de/teutonavigator/streaming/detail/Event/e
 _101225674/lagerverkauf-f-r-stoffe-ostwestf-lische-geschenke
END:VEVENT
BEGIN:VEVENT
CATEGORIES:Sonstiges
CATEGORIES:Markt
DESCRIPTION:Stoffe fühlen\, Inspiration finden und eine tolle Beratung geni
 eßen\n\nmehr Informationen unter http://pages.destination.one/de/teutonavi
 gator/streaming/detail/Event/e_101225674/lagerverkauf-f-r-stoffe-ostwestf-
 lische-geschenke
DTEND;TZID=Europe/Berlin:20260703T180000
DTSTAMP:20260421T204211Z
DTSTART;TZID=Europe/Berlin:20260703T140000
GEO:52.043160;8.615030
LOCATION:Bielefeld-Heepen\, \, Bielefeld
SEQUENCE:0
SUMMARY:Lagerverkauf für Stoffe & ostwestfälische Geschenke
UID:e_101225674_iv8
URL:http://pages.destination.one/de/teutonavigator/streaming/detail/Event/e
 _101225674/lagerverkauf-f-r-stoffe-ostwestf-lische-geschenke
END:VEVENT
BEGIN:VEVENT
CATEGORIES:Sonstiges
CATEGORIES:Markt
DESCRIPTION:Stoffe fühlen\, Inspiration finden und eine tolle Beratung geni
 eßen\n\nmehr Informationen unter http://pages.destination.one/de/teutonavi
 gator/streaming/detail/Event/e_101225674/lagerverkauf-f-r-stoffe-ostwestf-
 lische-geschenke
DTEND;TZID=Europe/Berlin:20260704T140000
DTSTAMP:20260421T204211Z
DTSTART;TZID=Europe/Berlin:20260704T093000
GEO:52.043160;8.615030
LOCATION:Bielefeld-Heepen\, \, Bielefeld
SEQUENCE:0
SUMMARY:Lagerverkauf für Stoffe & ostwestfälische Geschenke
UID:e_101225674_iv9
URL:http://pages.destination.one/de/teutonavigator/streaming/detail/Event/e
 _101225674/lagerverkauf-f-r-stoffe-ostwestf-lische-geschenke
END:VEVENT
BEGIN:VEVENT
CATEGORIES:Sonstiges
CATEGORIES:Markt
DESCRIPTION:Stoffe fühlen\, Inspiration finden und eine tolle Beratung geni
 eßen\n\nmehr Informationen unter http://pages.destination.one/de/teutonavi
 gator/streaming/detail/Event/e_101225674/lagerverkauf-f-r-stoffe-ostwestf-
 lische-geschenke
DTEND;TZID=Europe/Berlin:20260807T180000
DTSTAMP:20260421T204211Z
DTSTART;TZID=Europe/Berlin:20260807T140000
GEO:52.043160;8.615030
LOCATION:Bielefeld-Heepen\, \, Bielefeld
SEQUENCE:0
SUMMARY:Lagerverkauf für Stoffe & ostwestfälische Geschenke
UID:e_101225674_iv10
URL:http://pages.destination.one/de/teutonavigator/streaming/detail/Event/e
 _101225674/lagerverkauf-f-r-stoffe-ostwestf-lische-geschenke
END:VEVENT
BEGIN:VEVENT
CATEGORIES:Sonstiges
CATEGORIES:Markt
DESCRIPTION:Stoffe fühlen\, Inspiration finden und eine tolle Beratung geni
 eßen\n\nmehr Informationen unter http://pages.destination.one/de/teutonavi
 gator/streaming/detail/Event/e_101225674/lagerverkauf-f-r-stoffe-ostwestf-
 lische-geschenke
DTEND;TZID=Europe/Berlin:20260808T140000
DTSTAMP:20260421T204211Z
DTSTART;TZID=Europe/Berlin:20260808T093000
GEO:52.043160;8.615030
LOCATION:Bielefeld-Heepen\, \, Bielefeld
SEQUENCE:0
SUMMARY:Lagerverkauf für Stoffe & ostwestfälische Geschenke
UID:e_101225674_iv11
URL:http://pages.destination.one/de/teutonavigator/streaming/detail/Event/e
 _101225674/lagerverkauf-f-r-stoffe-ostwestf-lische-geschenke
END:VEVENT
BEGIN:VEVENT
CATEGORIES:Sonstiges
CATEGORIES:Markt
DESCRIPTION:Stoffe fühlen\, Inspiration finden und eine tolle Beratung geni
 eßen\n\nmehr Informationen unter http://pages.destination.one/de/teutonavi
 gator/streaming/detail/Event/e_101225674/lagerverkauf-f-r-stoffe-ostwestf-
 lische-geschenke
DTEND;TZID=Europe/Berlin:20260904T180000
DTSTAMP:20260421T204211Z
DTSTART;TZID=Europe/Berlin:20260904T140000
GEO:52.043160;8.615030
LOCATION:Bielefeld-Heepen\, \, Bielefeld
SEQUENCE:0
SUMMARY:Lagerverkauf für Stoffe & ostwestfälische Geschenke
UID:e_101225674_iv12
URL:http://pages.destination.one/de/teutonavigator/streaming/detail/Event/e
 _101225674/lagerverkauf-f-r-stoffe-ostwestf-lische-geschenke
END:VEVENT
BEGIN:VEVENT
CATEGORIES:Sonstiges
CATEGORIES:Markt
DESCRIPTION:Stoffe fühlen\, Inspiration finden und eine tolle Beratung geni
 eßen\n\nmehr Informationen unter http://pages.destination.one/de/teutonavi
 gator/streaming/detail/Event/e_101225674/lagerverkauf-f-r-stoffe-ostwestf-
 lische-geschenke
DTEND;TZID=Europe/Berlin:20260905T140000
DTSTAMP:20260421T204211Z
DTSTART;TZID=Europe/Berlin:20260905T093000
GEO:52.043160;8.615030
LOCATION:Bielefeld-Heepen\, \, Bielefeld
SEQUENCE:0
SUMMARY:Lagerverkauf für Stoffe & ostwestfälische Geschenke
UID:e_101225674_iv13
URL:http://pages.destination.one/de/teutonavigator/streaming/detail/Event/e
 _101225674/lagerverkauf-f-r-stoffe-ostwestf-lische-geschenke
END:VEVENT
BEGIN:VEVENT
CATEGORIES:Sonstiges
CATEGORIES:Markt
DESCRIPTION:Stoffe fühlen\, Inspiration finden und eine tolle Beratung geni
 eßen\n\nmehr Informationen unter http://pages.destination.one/de/teutonavi
 gator/streaming/detail/Event/e_101225674/lagerverkauf-f-r-stoffe-ostwestf-
 lische-geschenke
DTEND;TZID=Europe/Berlin:20261009T180000
DTSTAMP:20260421T204211Z
DTSTART;TZID=Europe/Berlin:20261009T140000
GEO:52.043160;8.615030
LOCATION:Bielefeld-Heepen\, \, Bielefeld
SEQUENCE:0
SUMMARY:Lagerverkauf für Stoffe & ostwestfälische Geschenke
UID:e_101225674_iv14
URL:http://pages.destination.one/de/teutonavigator/streaming/detail/Event/e
 _101225674/lagerverkauf-f-r-stoffe-ostwestf-lische-geschenke
END:VEVENT
BEGIN:VEVENT
CATEGORIES:Sonstiges
CATEGORIES:Markt
DESCRIPTION:Stoffe fühlen\, Inspiration finden und eine tolle Beratung geni
 eßen\n\nmehr Informationen unter http://pages.destination.one/de/teutonavi
 gator/streaming/detail/Event/e_101225674/lagerverkauf-f-r-stoffe-ostwestf-
 lische-geschenke
DTEND;TZID=Europe/Berlin:20261010T140000
DTSTAMP:20260421T204211Z
DTSTART;TZID=Europe/Berlin:20261010T093000
GEO:52.043160;8.615030
LOCATION:Bielefeld-Heepen\, \, Bielefeld
SEQUENCE:0
SUMMARY:Lagerverkauf für Stoffe & ostwestfälische Geschenke
UID:e_101225674_iv15
URL:http://pages.destination.one/de/teutonavigator/streaming/detail/Event/e
 _101225674/lagerverkauf-f-r-stoffe-ostwestf-lische-geschenke
END:VEVENT
BEGIN:VEVENT
CATEGORIES:Sonstiges
CATEGORIES:Markt
DESCRIPTION:Stoffe fühlen\, Inspiration finden und eine tolle Beratung geni
 eßen\n\nmehr Informationen unter http://pages.destination.one/de/teutonavi
 gator/streaming/detail/Event/e_101225674/lagerverkauf-f-r-stoffe-ostwestf-
 lische-geschenke
DTEND;TZID=Europe/Berlin:20261106T180000
DTSTAMP:20260421T204211Z
DTSTART;TZID=Europe/Berlin:20261106T140000
GEO:52.043160;8.615030
LOCATION:Bielefeld-Heepen\, \, Bielefeld
SEQUENCE:0
SUMMARY:Lagerverkauf für Stoffe & ostwestfälische Geschenke
UID:e_101225674_iv16
URL:http://pages.destination.one/de/teutonavigator/streaming/detail/Event/e
 _101225674/lagerverkauf-f-r-stoffe-ostwestf-lische-geschenke
END:VEVENT
BEGIN:VEVENT
CATEGORIES:Sonstiges
CATEGORIES:Markt
DESCRIPTION:Stoffe fühlen\, Inspiration finden und eine tolle Beratung geni
 eßen\n\nmehr Informationen unter http://pages.destination.one/de/teutonavi
 gator/streaming/detail/Event/e_101225674/lagerverkauf-f-r-stoffe-ostwestf-
 lische-geschenke
DTEND;TZID=Europe/Berlin:20261107T140000
DTSTAMP:20260421T204211Z
DTSTART;TZID=Europe/Berlin:20261107T093000
GEO:52.043160;8.615030
LOCATION:Bielefeld-Heepen\, \, Bielefeld
SEQUENCE:0
SUMMARY:Lagerverkauf für Stoffe & ostwestfälische Geschenke
UID:e_101225674_iv17
URL:http://pages.destination.one/de/teutonavigator/streaming/detail/Event/e
 _101225674/lagerverkauf-f-r-stoffe-ostwestf-lische-geschenke
END:VEVENT
BEGIN:VEVENT
CATEGORIES:Sonstiges
CATEGORIES:Markt
DESCRIPTION:Stoffe fühlen\, Inspiration finden und eine tolle Beratung geni
 eßen\n\nmehr Informationen unter http://pages.destination.one/de/teutonavi
 gator/streaming/detail/Event/e_101225674/lagerverkauf-f-r-stoffe-ostwestf-
 lische-geschenke
DTEND;TZID=Europe/Berlin:20261204T180000
DTSTAMP:20260421T204211Z
DTSTART;TZID=Europe/Berlin:20261204T140000
GEO:52.043160;8.615030
LOCATION:Bielefeld-Heepen\, \, Bielefeld
SEQUENCE:0
SUMMARY:Lagerverkauf für Stoffe & ostwestfälische Geschenke
UID:e_101225674_iv18
URL:http://pages.destination.one/de/teutonavigator/streaming/detail/Event/e
 _101225674/lagerverkauf-f-r-stoffe-ostwestf-lische-geschenke
END:VEVENT
BEGIN:VEVENT
CATEGORIES:Sonstiges
CATEGORIES:Markt
DESCRIPTION:Stoffe fühlen\, Inspiration finden und eine tolle Beratung geni
 eßen\n\nmehr Informationen unter http://pages.destination.one/de/teutonavi
 gator/streaming/detail/Event/e_101225674/lagerverkauf-f-r-stoffe-ostwestf-
 lische-geschenke
DTEND;TZID=Europe/Berlin:20261205T140000
DTSTAMP:20260421T204211Z
DTSTART;TZID=Europe/Berlin:20261205T093000
GEO:52.043160;8.615030
LOCATION:Bielefeld-Heepen\, \, Bielefeld
SEQUENCE:0
SUMMARY:Lagerverkauf für Stoffe & ostwestfälische Geschenke
UID:e_101225674_iv19
URL:http://pages.destination.one/de/teutonavigator/streaming/detail/Event/e
 _101225674/lagerverkauf-f-r-stoffe-ostwestf-lische-geschenke
END:VEVENT
BEGIN:VTIMEZONE
TZID:Europe/Berlin
X-LIC-LOCATION:Europe/Berlin
BEGIN:DAYLIGHT
DTSTART:19700329T020000
RRULE:FREQ=YEARLY;BYDAY=-1SU;BYMONTH=3
TZNAME:CEST
TZOFFSETFROM:+0100
TZOFFSETTO:+0200
END:DAYLIGHT
BEGIN:STANDARD
DTSTART:19701025T030000
RRULE:FREQ=YEARLY;BYDAY=-1SU;BYMONTH=10
TZNAME:CET
TZOFFSETFROM:+0200
TZOFFSETTO:+0100
END:STANDARD
END:VTIMEZONE
END:VCALENDAR
