BEGIN:VCALENDAR
VERSION:2.0
PRODID:-//destination.one//NONSGML destination.meta API//DE
X-WR-CALDESC:A calendar powered by destination.meta
X-WR-CALNAME:teutonavigator Kalender via destination.meta
BEGIN:VEVENT
CATEGORIES:Brauchtum/Kultur
CATEGORIES:Ausstellung
DESCRIPTION:Erfolgreiche erste Bielefelder Museumsschau des Malers verlänge
 rt bis 26. April 2026\n\nmehr Informationen unter http://pages.destination
 .one/de/teutonavigator/streaming/detail/Event/e_101225664/aatifi-maraka
DTEND;TZID=Europe/Berlin:20260305T180000
DTSTAMP:20260422T120119Z
DTSTART;TZID=Europe/Berlin:20260305T140000
GEO:52.019839;8.526558
LOCATION:Kunstforum Hermann Stenner\, Obernstraße 48\, Bielefeld
SEQUENCE:0
SUMMARY:Aatifi – Maraka
UID:e_101225664_iv0
URL:http://pages.destination.one/de/teutonavigator/streaming/detail/Event/e
 _101225664/aatifi-maraka
END:VEVENT
BEGIN:VEVENT
CATEGORIES:Brauchtum/Kultur
CATEGORIES:Ausstellung
DESCRIPTION:Erfolgreiche erste Bielefelder Museumsschau des Malers verlänge
 rt bis 26. April 2026\n\nmehr Informationen unter http://pages.destination
 .one/de/teutonavigator/streaming/detail/Event/e_101225664/aatifi-maraka
DTEND;TZID=Europe/Berlin:20260306T180000
DTSTAMP:20260422T120119Z
DTSTART;TZID=Europe/Berlin:20260306T140000
GEO:52.019839;8.526558
LOCATION:Kunstforum Hermann Stenner\, Obernstraße 48\, Bielefeld
SEQUENCE:0
SUMMARY:Aatifi – Maraka
UID:e_101225664_iv1
URL:http://pages.destination.one/de/teutonavigator/streaming/detail/Event/e
 _101225664/aatifi-maraka
END:VEVENT
BEGIN:VEVENT
CATEGORIES:Brauchtum/Kultur
CATEGORIES:Ausstellung
DESCRIPTION:Erfolgreiche erste Bielefelder Museumsschau des Malers verlänge
 rt bis 26. April 2026\n\nmehr Informationen unter http://pages.destination
 .one/de/teutonavigator/streaming/detail/Event/e_101225664/aatifi-maraka
DTEND;TZID=Europe/Berlin:20260307T180000
DTSTAMP:20260422T120119Z
DTSTART;TZID=Europe/Berlin:20260307T140000
GEO:52.019839;8.526558
LOCATION:Kunstforum Hermann Stenner\, Obernstraße 48\, Bielefeld
SEQUENCE:0
SUMMARY:Aatifi – Maraka
UID:e_101225664_iv2
URL:http://pages.destination.one/de/teutonavigator/streaming/detail/Event/e
 _101225664/aatifi-maraka
END:VEVENT
BEGIN:VEVENT
CATEGORIES:Brauchtum/Kultur
CATEGORIES:Ausstellung
DESCRIPTION:Erfolgreiche erste Bielefelder Museumsschau des Malers verlänge
 rt bis 26. April 2026\n\nmehr Informationen unter http://pages.destination
 .one/de/teutonavigator/streaming/detail/Event/e_101225664/aatifi-maraka
DTEND;TZID=Europe/Berlin:20260308T180000
DTSTAMP:20260422T120119Z
DTSTART;TZID=Europe/Berlin:20260308T120000
GEO:52.019839;8.526558
LOCATION:Kunstforum Hermann Stenner\, Obernstraße 48\, Bielefeld
SEQUENCE:0
SUMMARY:Aatifi – Maraka
UID:e_101225664_iv3
URL:http://pages.destination.one/de/teutonavigator/streaming/detail/Event/e
 _101225664/aatifi-maraka
END:VEVENT
BEGIN:VEVENT
CATEGORIES:Brauchtum/Kultur
CATEGORIES:Ausstellung
DESCRIPTION:Erfolgreiche erste Bielefelder Museumsschau des Malers verlänge
 rt bis 26. April 2026\n\nmehr Informationen unter http://pages.destination
 .one/de/teutonavigator/streaming/detail/Event/e_101225664/aatifi-maraka
DTEND;TZID=Europe/Berlin:20260312T180000
DTSTAMP:20260422T120119Z
DTSTART;TZID=Europe/Berlin:20260312T140000
GEO:52.019839;8.526558
LOCATION:Kunstforum Hermann Stenner\, Obernstraße 48\, Bielefeld
SEQUENCE:0
SUMMARY:Aatifi – Maraka
UID:e_101225664_iv4
URL:http://pages.destination.one/de/teutonavigator/streaming/detail/Event/e
 _101225664/aatifi-maraka
END:VEVENT
BEGIN:VEVENT
CATEGORIES:Brauchtum/Kultur
CATEGORIES:Ausstellung
DESCRIPTION:Erfolgreiche erste Bielefelder Museumsschau des Malers verlänge
 rt bis 26. April 2026\n\nmehr Informationen unter http://pages.destination
 .one/de/teutonavigator/streaming/detail/Event/e_101225664/aatifi-maraka
DTEND;TZID=Europe/Berlin:20260313T180000
DTSTAMP:20260422T120119Z
DTSTART;TZID=Europe/Berlin:20260313T140000
GEO:52.019839;8.526558
LOCATION:Kunstforum Hermann Stenner\, Obernstraße 48\, Bielefeld
SEQUENCE:0
SUMMARY:Aatifi – Maraka
UID:e_101225664_iv5
URL:http://pages.destination.one/de/teutonavigator/streaming/detail/Event/e
 _101225664/aatifi-maraka
END:VEVENT
BEGIN:VEVENT
CATEGORIES:Brauchtum/Kultur
CATEGORIES:Ausstellung
DESCRIPTION:Erfolgreiche erste Bielefelder Museumsschau des Malers verlänge
 rt bis 26. April 2026\n\nmehr Informationen unter http://pages.destination
 .one/de/teutonavigator/streaming/detail/Event/e_101225664/aatifi-maraka
DTEND;TZID=Europe/Berlin:20260314T180000
DTSTAMP:20260422T120119Z
DTSTART;TZID=Europe/Berlin:20260314T140000
GEO:52.019839;8.526558
LOCATION:Kunstforum Hermann Stenner\, Obernstraße 48\, Bielefeld
SEQUENCE:0
SUMMARY:Aatifi – Maraka
UID:e_101225664_iv6
URL:http://pages.destination.one/de/teutonavigator/streaming/detail/Event/e
 _101225664/aatifi-maraka
END:VEVENT
BEGIN:VEVENT
CATEGORIES:Brauchtum/Kultur
CATEGORIES:Ausstellung
DESCRIPTION:Erfolgreiche erste Bielefelder Museumsschau des Malers verlänge
 rt bis 26. April 2026\n\nmehr Informationen unter http://pages.destination
 .one/de/teutonavigator/streaming/detail/Event/e_101225664/aatifi-maraka
DTEND;TZID=Europe/Berlin:20260315T180000
DTSTAMP:20260422T120119Z
DTSTART;TZID=Europe/Berlin:20260315T120000
GEO:52.019839;8.526558
LOCATION:Kunstforum Hermann Stenner\, Obernstraße 48\, Bielefeld
SEQUENCE:0
SUMMARY:Aatifi – Maraka
UID:e_101225664_iv7
URL:http://pages.destination.one/de/teutonavigator/streaming/detail/Event/e
 _101225664/aatifi-maraka
END:VEVENT
BEGIN:VEVENT
CATEGORIES:Brauchtum/Kultur
CATEGORIES:Ausstellung
DESCRIPTION:Erfolgreiche erste Bielefelder Museumsschau des Malers verlänge
 rt bis 26. April 2026\n\nmehr Informationen unter http://pages.destination
 .one/de/teutonavigator/streaming/detail/Event/e_101225664/aatifi-maraka
DTEND;TZID=Europe/Berlin:20260319T180000
DTSTAMP:20260422T120119Z
DTSTART;TZID=Europe/Berlin:20260319T140000
GEO:52.019839;8.526558
LOCATION:Kunstforum Hermann Stenner\, Obernstraße 48\, Bielefeld
SEQUENCE:0
SUMMARY:Aatifi – Maraka
UID:e_101225664_iv8
URL:http://pages.destination.one/de/teutonavigator/streaming/detail/Event/e
 _101225664/aatifi-maraka
END:VEVENT
BEGIN:VEVENT
CATEGORIES:Brauchtum/Kultur
CATEGORIES:Ausstellung
DESCRIPTION:Erfolgreiche erste Bielefelder Museumsschau des Malers verlänge
 rt bis 26. April 2026\n\nmehr Informationen unter http://pages.destination
 .one/de/teutonavigator/streaming/detail/Event/e_101225664/aatifi-maraka
DTEND;TZID=Europe/Berlin:20260320T180000
DTSTAMP:20260422T120119Z
DTSTART;TZID=Europe/Berlin:20260320T140000
GEO:52.019839;8.526558
LOCATION:Kunstforum Hermann Stenner\, Obernstraße 48\, Bielefeld
SEQUENCE:0
SUMMARY:Aatifi – Maraka
UID:e_101225664_iv9
URL:http://pages.destination.one/de/teutonavigator/streaming/detail/Event/e
 _101225664/aatifi-maraka
END:VEVENT
BEGIN:VEVENT
CATEGORIES:Brauchtum/Kultur
CATEGORIES:Ausstellung
DESCRIPTION:Erfolgreiche erste Bielefelder Museumsschau des Malers verlänge
 rt bis 26. April 2026\n\nmehr Informationen unter http://pages.destination
 .one/de/teutonavigator/streaming/detail/Event/e_101225664/aatifi-maraka
DTEND;TZID=Europe/Berlin:20260321T180000
DTSTAMP:20260422T120119Z
DTSTART;TZID=Europe/Berlin:20260321T140000
GEO:52.019839;8.526558
LOCATION:Kunstforum Hermann Stenner\, Obernstraße 48\, Bielefeld
SEQUENCE:0
SUMMARY:Aatifi – Maraka
UID:e_101225664_iv10
URL:http://pages.destination.one/de/teutonavigator/streaming/detail/Event/e
 _101225664/aatifi-maraka
END:VEVENT
BEGIN:VEVENT
CATEGORIES:Brauchtum/Kultur
CATEGORIES:Ausstellung
DESCRIPTION:Erfolgreiche erste Bielefelder Museumsschau des Malers verlänge
 rt bis 26. April 2026\n\nmehr Informationen unter http://pages.destination
 .one/de/teutonavigator/streaming/detail/Event/e_101225664/aatifi-maraka
DTEND;TZID=Europe/Berlin:20260322T180000
DTSTAMP:20260422T120119Z
DTSTART;TZID=Europe/Berlin:20260322T120000
GEO:52.019839;8.526558
LOCATION:Kunstforum Hermann Stenner\, Obernstraße 48\, Bielefeld
SEQUENCE:0
SUMMARY:Aatifi – Maraka
UID:e_101225664_iv11
URL:http://pages.destination.one/de/teutonavigator/streaming/detail/Event/e
 _101225664/aatifi-maraka
END:VEVENT
BEGIN:VEVENT
CATEGORIES:Brauchtum/Kultur
CATEGORIES:Ausstellung
DESCRIPTION:Erfolgreiche erste Bielefelder Museumsschau des Malers verlänge
 rt bis 26. April 2026\n\nmehr Informationen unter http://pages.destination
 .one/de/teutonavigator/streaming/detail/Event/e_101225664/aatifi-maraka
DTEND;TZID=Europe/Berlin:20260326T180000
DTSTAMP:20260422T120119Z
DTSTART;TZID=Europe/Berlin:20260326T140000
GEO:52.019839;8.526558
LOCATION:Kunstforum Hermann Stenner\, Obernstraße 48\, Bielefeld
SEQUENCE:0
SUMMARY:Aatifi – Maraka
UID:e_101225664_iv12
URL:http://pages.destination.one/de/teutonavigator/streaming/detail/Event/e
 _101225664/aatifi-maraka
END:VEVENT
BEGIN:VEVENT
CATEGORIES:Brauchtum/Kultur
CATEGORIES:Ausstellung
DESCRIPTION:Erfolgreiche erste Bielefelder Museumsschau des Malers verlänge
 rt bis 26. April 2026\n\nmehr Informationen unter http://pages.destination
 .one/de/teutonavigator/streaming/detail/Event/e_101225664/aatifi-maraka
DTEND;TZID=Europe/Berlin:20260327T180000
DTSTAMP:20260422T120119Z
DTSTART;TZID=Europe/Berlin:20260327T140000
GEO:52.019839;8.526558
LOCATION:Kunstforum Hermann Stenner\, Obernstraße 48\, Bielefeld
SEQUENCE:0
SUMMARY:Aatifi – Maraka
UID:e_101225664_iv13
URL:http://pages.destination.one/de/teutonavigator/streaming/detail/Event/e
 _101225664/aatifi-maraka
END:VEVENT
BEGIN:VEVENT
CATEGORIES:Brauchtum/Kultur
CATEGORIES:Ausstellung
DESCRIPTION:Erfolgreiche erste Bielefelder Museumsschau des Malers verlänge
 rt bis 26. April 2026\n\nmehr Informationen unter http://pages.destination
 .one/de/teutonavigator/streaming/detail/Event/e_101225664/aatifi-maraka
DTEND;TZID=Europe/Berlin:20260328T180000
DTSTAMP:20260422T120119Z
DTSTART;TZID=Europe/Berlin:20260328T140000
GEO:52.019839;8.526558
LOCATION:Kunstforum Hermann Stenner\, Obernstraße 48\, Bielefeld
SEQUENCE:0
SUMMARY:Aatifi – Maraka
UID:e_101225664_iv14
URL:http://pages.destination.one/de/teutonavigator/streaming/detail/Event/e
 _101225664/aatifi-maraka
END:VEVENT
BEGIN:VEVENT
CATEGORIES:Brauchtum/Kultur
CATEGORIES:Ausstellung
DESCRIPTION:Erfolgreiche erste Bielefelder Museumsschau des Malers verlänge
 rt bis 26. April 2026\n\nmehr Informationen unter http://pages.destination
 .one/de/teutonavigator/streaming/detail/Event/e_101225664/aatifi-maraka
DTEND;TZID=Europe/Berlin:20260329T180000
DTSTAMP:20260422T120119Z
DTSTART;TZID=Europe/Berlin:20260329T120000
GEO:52.019839;8.526558
LOCATION:Kunstforum Hermann Stenner\, Obernstraße 48\, Bielefeld
SEQUENCE:0
SUMMARY:Aatifi – Maraka
UID:e_101225664_iv15
URL:http://pages.destination.one/de/teutonavigator/streaming/detail/Event/e
 _101225664/aatifi-maraka
END:VEVENT
BEGIN:VEVENT
CATEGORIES:Brauchtum/Kultur
CATEGORIES:Ausstellung
DESCRIPTION:Erfolgreiche erste Bielefelder Museumsschau des Malers verlänge
 rt bis 26. April 2026\n\nmehr Informationen unter http://pages.destination
 .one/de/teutonavigator/streaming/detail/Event/e_101225664/aatifi-maraka
DTEND;TZID=Europe/Berlin:20260402T180000
DTSTAMP:20260422T120119Z
DTSTART;TZID=Europe/Berlin:20260402T140000
GEO:52.019839;8.526558
LOCATION:Kunstforum Hermann Stenner\, Obernstraße 48\, Bielefeld
SEQUENCE:0
SUMMARY:Aatifi – Maraka
UID:e_101225664_iv16
URL:http://pages.destination.one/de/teutonavigator/streaming/detail/Event/e
 _101225664/aatifi-maraka
END:VEVENT
BEGIN:VEVENT
CATEGORIES:Brauchtum/Kultur
CATEGORIES:Ausstellung
DESCRIPTION:Erfolgreiche erste Bielefelder Museumsschau des Malers verlänge
 rt bis 26. April 2026\n\nmehr Informationen unter http://pages.destination
 .one/de/teutonavigator/streaming/detail/Event/e_101225664/aatifi-maraka
DTEND;TZID=Europe/Berlin:20260403T180000
DTSTAMP:20260422T120119Z
DTSTART;TZID=Europe/Berlin:20260403T120000
GEO:52.019839;8.526558
LOCATION:Kunstforum Hermann Stenner\, Obernstraße 48\, Bielefeld
SEQUENCE:0
SUMMARY:Aatifi – Maraka
UID:e_101225664_iv17
URL:http://pages.destination.one/de/teutonavigator/streaming/detail/Event/e
 _101225664/aatifi-maraka
END:VEVENT
BEGIN:VEVENT
CATEGORIES:Brauchtum/Kultur
CATEGORIES:Ausstellung
DESCRIPTION:Erfolgreiche erste Bielefelder Museumsschau des Malers verlänge
 rt bis 26. April 2026\n\nmehr Informationen unter http://pages.destination
 .one/de/teutonavigator/streaming/detail/Event/e_101225664/aatifi-maraka
DTEND;TZID=Europe/Berlin:20260404T180000
DTSTAMP:20260422T120119Z
DTSTART;TZID=Europe/Berlin:20260404T140000
GEO:52.019839;8.526558
LOCATION:Kunstforum Hermann Stenner\, Obernstraße 48\, Bielefeld
SEQUENCE:0
SUMMARY:Aatifi – Maraka
UID:e_101225664_iv18
URL:http://pages.destination.one/de/teutonavigator/streaming/detail/Event/e
 _101225664/aatifi-maraka
END:VEVENT
BEGIN:VEVENT
CATEGORIES:Brauchtum/Kultur
CATEGORIES:Ausstellung
DESCRIPTION:Erfolgreiche erste Bielefelder Museumsschau des Malers verlänge
 rt bis 26. April 2026\n\nmehr Informationen unter http://pages.destination
 .one/de/teutonavigator/streaming/detail/Event/e_101225664/aatifi-maraka
DTEND;TZID=Europe/Berlin:20260405T180000
DTSTAMP:20260422T120119Z
DTSTART;TZID=Europe/Berlin:20260405T120000
GEO:52.019839;8.526558
LOCATION:Kunstforum Hermann Stenner\, Obernstraße 48\, Bielefeld
SEQUENCE:0
SUMMARY:Aatifi – Maraka
UID:e_101225664_iv19
URL:http://pages.destination.one/de/teutonavigator/streaming/detail/Event/e
 _101225664/aatifi-maraka
END:VEVENT
BEGIN:VEVENT
CATEGORIES:Brauchtum/Kultur
CATEGORIES:Ausstellung
DESCRIPTION:Erfolgreiche erste Bielefelder Museumsschau des Malers verlänge
 rt bis 26. April 2026\n\nmehr Informationen unter http://pages.destination
 .one/de/teutonavigator/streaming/detail/Event/e_101225664/aatifi-maraka
DTEND;TZID=Europe/Berlin:20260406T180000
DTSTAMP:20260422T120119Z
DTSTART;TZID=Europe/Berlin:20260406T120000
GEO:52.019839;8.526558
LOCATION:Kunstforum Hermann Stenner\, Obernstraße 48\, Bielefeld
SEQUENCE:0
SUMMARY:Aatifi – Maraka
UID:e_101225664_iv20
URL:http://pages.destination.one/de/teutonavigator/streaming/detail/Event/e
 _101225664/aatifi-maraka
END:VEVENT
BEGIN:VEVENT
CATEGORIES:Brauchtum/Kultur
CATEGORIES:Ausstellung
DESCRIPTION:Erfolgreiche erste Bielefelder Museumsschau des Malers verlänge
 rt bis 26. April 2026\n\nmehr Informationen unter http://pages.destination
 .one/de/teutonavigator/streaming/detail/Event/e_101225664/aatifi-maraka
DTEND;TZID=Europe/Berlin:20260409T180000
DTSTAMP:20260422T120119Z
DTSTART;TZID=Europe/Berlin:20260409T140000
GEO:52.019839;8.526558
LOCATION:Kunstforum Hermann Stenner\, Obernstraße 48\, Bielefeld
SEQUENCE:0
SUMMARY:Aatifi – Maraka
UID:e_101225664_iv21
URL:http://pages.destination.one/de/teutonavigator/streaming/detail/Event/e
 _101225664/aatifi-maraka
END:VEVENT
BEGIN:VEVENT
CATEGORIES:Brauchtum/Kultur
CATEGORIES:Ausstellung
DESCRIPTION:Erfolgreiche erste Bielefelder Museumsschau des Malers verlänge
 rt bis 26. April 2026\n\nmehr Informationen unter http://pages.destination
 .one/de/teutonavigator/streaming/detail/Event/e_101225664/aatifi-maraka
DTEND;TZID=Europe/Berlin:20260410T180000
DTSTAMP:20260422T120119Z
DTSTART;TZID=Europe/Berlin:20260410T140000
GEO:52.019839;8.526558
LOCATION:Kunstforum Hermann Stenner\, Obernstraße 48\, Bielefeld
SEQUENCE:0
SUMMARY:Aatifi – Maraka
UID:e_101225664_iv22
URL:http://pages.destination.one/de/teutonavigator/streaming/detail/Event/e
 _101225664/aatifi-maraka
END:VEVENT
BEGIN:VEVENT
CATEGORIES:Brauchtum/Kultur
CATEGORIES:Ausstellung
DESCRIPTION:Erfolgreiche erste Bielefelder Museumsschau des Malers verlänge
 rt bis 26. April 2026\n\nmehr Informationen unter http://pages.destination
 .one/de/teutonavigator/streaming/detail/Event/e_101225664/aatifi-maraka
DTEND;TZID=Europe/Berlin:20260411T180000
DTSTAMP:20260422T120119Z
DTSTART;TZID=Europe/Berlin:20260411T140000
GEO:52.019839;8.526558
LOCATION:Kunstforum Hermann Stenner\, Obernstraße 48\, Bielefeld
SEQUENCE:0
SUMMARY:Aatifi – Maraka
UID:e_101225664_iv23
URL:http://pages.destination.one/de/teutonavigator/streaming/detail/Event/e
 _101225664/aatifi-maraka
END:VEVENT
BEGIN:VEVENT
CATEGORIES:Brauchtum/Kultur
CATEGORIES:Ausstellung
DESCRIPTION:Erfolgreiche erste Bielefelder Museumsschau des Malers verlänge
 rt bis 26. April 2026\n\nmehr Informationen unter http://pages.destination
 .one/de/teutonavigator/streaming/detail/Event/e_101225664/aatifi-maraka
DTEND;TZID=Europe/Berlin:20260412T180000
DTSTAMP:20260422T120119Z
DTSTART;TZID=Europe/Berlin:20260412T120000
GEO:52.019839;8.526558
LOCATION:Kunstforum Hermann Stenner\, Obernstraße 48\, Bielefeld
SEQUENCE:0
SUMMARY:Aatifi – Maraka
UID:e_101225664_iv24
URL:http://pages.destination.one/de/teutonavigator/streaming/detail/Event/e
 _101225664/aatifi-maraka
END:VEVENT
BEGIN:VEVENT
CATEGORIES:Brauchtum/Kultur
CATEGORIES:Ausstellung
DESCRIPTION:Erfolgreiche erste Bielefelder Museumsschau des Malers verlänge
 rt bis 26. April 2026\n\nmehr Informationen unter http://pages.destination
 .one/de/teutonavigator/streaming/detail/Event/e_101225664/aatifi-maraka
DTEND;TZID=Europe/Berlin:20260416T180000
DTSTAMP:20260422T120119Z
DTSTART;TZID=Europe/Berlin:20260416T140000
GEO:52.019839;8.526558
LOCATION:Kunstforum Hermann Stenner\, Obernstraße 48\, Bielefeld
SEQUENCE:0
SUMMARY:Aatifi – Maraka
UID:e_101225664_iv25
URL:http://pages.destination.one/de/teutonavigator/streaming/detail/Event/e
 _101225664/aatifi-maraka
END:VEVENT
BEGIN:VEVENT
CATEGORIES:Brauchtum/Kultur
CATEGORIES:Ausstellung
DESCRIPTION:Erfolgreiche erste Bielefelder Museumsschau des Malers verlänge
 rt bis 26. April 2026\n\nmehr Informationen unter http://pages.destination
 .one/de/teutonavigator/streaming/detail/Event/e_101225664/aatifi-maraka
DTEND;TZID=Europe/Berlin:20260417T180000
DTSTAMP:20260422T120119Z
DTSTART;TZID=Europe/Berlin:20260417T140000
GEO:52.019839;8.526558
LOCATION:Kunstforum Hermann Stenner\, Obernstraße 48\, Bielefeld
SEQUENCE:0
SUMMARY:Aatifi – Maraka
UID:e_101225664_iv26
URL:http://pages.destination.one/de/teutonavigator/streaming/detail/Event/e
 _101225664/aatifi-maraka
END:VEVENT
BEGIN:VEVENT
CATEGORIES:Brauchtum/Kultur
CATEGORIES:Ausstellung
DESCRIPTION:Erfolgreiche erste Bielefelder Museumsschau des Malers verlänge
 rt bis 26. April 2026\n\nmehr Informationen unter http://pages.destination
 .one/de/teutonavigator/streaming/detail/Event/e_101225664/aatifi-maraka
DTEND;TZID=Europe/Berlin:20260418T180000
DTSTAMP:20260422T120119Z
DTSTART;TZID=Europe/Berlin:20260418T140000
GEO:52.019839;8.526558
LOCATION:Kunstforum Hermann Stenner\, Obernstraße 48\, Bielefeld
SEQUENCE:0
SUMMARY:Aatifi – Maraka
UID:e_101225664_iv27
URL:http://pages.destination.one/de/teutonavigator/streaming/detail/Event/e
 _101225664/aatifi-maraka
END:VEVENT
BEGIN:VEVENT
CATEGORIES:Brauchtum/Kultur
CATEGORIES:Ausstellung
DESCRIPTION:Erfolgreiche erste Bielefelder Museumsschau des Malers verlänge
 rt bis 26. April 2026\n\nmehr Informationen unter http://pages.destination
 .one/de/teutonavigator/streaming/detail/Event/e_101225664/aatifi-maraka
DTEND;TZID=Europe/Berlin:20260419T180000
DTSTAMP:20260422T120119Z
DTSTART;TZID=Europe/Berlin:20260419T120000
GEO:52.019839;8.526558
LOCATION:Kunstforum Hermann Stenner\, Obernstraße 48\, Bielefeld
SEQUENCE:0
SUMMARY:Aatifi – Maraka
UID:e_101225664_iv28
URL:http://pages.destination.one/de/teutonavigator/streaming/detail/Event/e
 _101225664/aatifi-maraka
END:VEVENT
BEGIN:VEVENT
CATEGORIES:Brauchtum/Kultur
CATEGORIES:Ausstellung
DESCRIPTION:Erfolgreiche erste Bielefelder Museumsschau des Malers verlänge
 rt bis 26. April 2026\n\nmehr Informationen unter http://pages.destination
 .one/de/teutonavigator/streaming/detail/Event/e_101225664/aatifi-maraka
DTEND;TZID=Europe/Berlin:20260423T180000
DTSTAMP:20260422T120119Z
DTSTART;TZID=Europe/Berlin:20260423T140000
GEO:52.019839;8.526558
LOCATION:Kunstforum Hermann Stenner\, Obernstraße 48\, Bielefeld
SEQUENCE:0
SUMMARY:Aatifi – Maraka
UID:e_101225664_iv29
URL:http://pages.destination.one/de/teutonavigator/streaming/detail/Event/e
 _101225664/aatifi-maraka
END:VEVENT
BEGIN:VEVENT
CATEGORIES:Brauchtum/Kultur
CATEGORIES:Ausstellung
DESCRIPTION:Erfolgreiche erste Bielefelder Museumsschau des Malers verlänge
 rt bis 26. April 2026\n\nmehr Informationen unter http://pages.destination
 .one/de/teutonavigator/streaming/detail/Event/e_101225664/aatifi-maraka
DTEND;TZID=Europe/Berlin:20260424T180000
DTSTAMP:20260422T120119Z
DTSTART;TZID=Europe/Berlin:20260424T140000
GEO:52.019839;8.526558
LOCATION:Kunstforum Hermann Stenner\, Obernstraße 48\, Bielefeld
SEQUENCE:0
SUMMARY:Aatifi – Maraka
UID:e_101225664_iv30
URL:http://pages.destination.one/de/teutonavigator/streaming/detail/Event/e
 _101225664/aatifi-maraka
END:VEVENT
BEGIN:VEVENT
CATEGORIES:Brauchtum/Kultur
CATEGORIES:Ausstellung
DESCRIPTION:Erfolgreiche erste Bielefelder Museumsschau des Malers verlänge
 rt bis 26. April 2026\n\nmehr Informationen unter http://pages.destination
 .one/de/teutonavigator/streaming/detail/Event/e_101225664/aatifi-maraka
DTEND;TZID=Europe/Berlin:20260425T180000
DTSTAMP:20260422T120119Z
DTSTART;TZID=Europe/Berlin:20260425T140000
GEO:52.019839;8.526558
LOCATION:Kunstforum Hermann Stenner\, Obernstraße 48\, Bielefeld
SEQUENCE:0
SUMMARY:Aatifi – Maraka
UID:e_101225664_iv31
URL:http://pages.destination.one/de/teutonavigator/streaming/detail/Event/e
 _101225664/aatifi-maraka
END:VEVENT
BEGIN:VEVENT
CATEGORIES:Brauchtum/Kultur
CATEGORIES:Ausstellung
DESCRIPTION:Erfolgreiche erste Bielefelder Museumsschau des Malers verlänge
 rt bis 26. April 2026\n\nmehr Informationen unter http://pages.destination
 .one/de/teutonavigator/streaming/detail/Event/e_101225664/aatifi-maraka
DTEND;TZID=Europe/Berlin:20260425T235900
DTSTAMP:20260422T120119Z
DTSTART;TZID=Europe/Berlin:20260425T180000
GEO:52.019839;8.526558
LOCATION:Kunstforum Hermann Stenner\, Obernstraße 48\, Bielefeld
SEQUENCE:0
SUMMARY:Aatifi – Maraka
UID:e_101225664_iv32
URL:http://pages.destination.one/de/teutonavigator/streaming/detail/Event/e
 _101225664/aatifi-maraka
END:VEVENT
BEGIN:VEVENT
CATEGORIES:Brauchtum/Kultur
CATEGORIES:Ausstellung
DESCRIPTION:Erfolgreiche erste Bielefelder Museumsschau des Malers verlänge
 rt bis 26. April 2026\n\nmehr Informationen unter http://pages.destination
 .one/de/teutonavigator/streaming/detail/Event/e_101225664/aatifi-maraka
DTEND;TZID=Europe/Berlin:20260426T180000
DTSTAMP:20260422T120119Z
DTSTART;TZID=Europe/Berlin:20260426T120000
GEO:52.019839;8.526558
LOCATION:Kunstforum Hermann Stenner\, Obernstraße 48\, Bielefeld
SEQUENCE:0
SUMMARY:Aatifi – Maraka
UID:e_101225664_iv33
URL:http://pages.destination.one/de/teutonavigator/streaming/detail/Event/e
 _101225664/aatifi-maraka
END:VEVENT
BEGIN:VTIMEZONE
TZID:Europe/Berlin
X-LIC-LOCATION:Europe/Berlin
BEGIN:DAYLIGHT
DTSTART:19700329T020000
RRULE:FREQ=YEARLY;BYDAY=-1SU;BYMONTH=3
TZNAME:CEST
TZOFFSETFROM:+0100
TZOFFSETTO:+0200
END:DAYLIGHT
BEGIN:STANDARD
DTSTART:19701025T030000
RRULE:FREQ=YEARLY;BYDAY=-1SU;BYMONTH=10
TZNAME:CET
TZOFFSETFROM:+0200
TZOFFSETTO:+0100
END:STANDARD
END:VTIMEZONE
END:VCALENDAR
