BEGIN:VCALENDAR
VERSION:2.0
PRODID:-//destination.one//NONSGML destination.meta API//DE
X-WR-CALDESC:A calendar powered by destination.meta
X-WR-CALNAME:teutonavigator Kalender via destination.meta
BEGIN:VEVENT
CATEGORIES:Workshop
CATEGORIES:Stadtfest/Kirmes/Jahrmarkt
CATEGORIES:Sonstiges
CATEGORIES:Brauchtum/Kultur
DESCRIPTION:Offene Mal- und Kreativgruppe für alle Interessierte\n\nmehr In
 formationen unter http://pages.destination.one/de/teutonavigator/streaming
 /detail/Event/e_101225662/kreativ-in-sieker
DTEND;TZID=Europe/Berlin:20260307T140000
DTSTAMP:20260422T120205Z
DTSTART;TZID=Europe/Berlin:20260307T100000
GEO:51.991990;8.606140
LOCATION:Bielefeld-Stieghorst\, \, Bielefeld
SEQUENCE:0
SUMMARY:Kreativ in Sieker
UID:e_101225662_iv0
URL:http://pages.destination.one/de/teutonavigator/streaming/detail/Event/e
 _101225662/kreativ-in-sieker
END:VEVENT
BEGIN:VEVENT
CATEGORIES:Workshop
CATEGORIES:Stadtfest/Kirmes/Jahrmarkt
CATEGORIES:Sonstiges
CATEGORIES:Brauchtum/Kultur
DESCRIPTION:Offene Mal- und Kreativgruppe für alle Interessierte\n\nmehr In
 formationen unter http://pages.destination.one/de/teutonavigator/streaming
 /detail/Event/e_101225662/kreativ-in-sieker
DTEND;TZID=Europe/Berlin:20260321T140000
DTSTAMP:20260422T120205Z
DTSTART;TZID=Europe/Berlin:20260321T100000
GEO:51.991990;8.606140
LOCATION:Bielefeld-Stieghorst\, \, Bielefeld
SEQUENCE:0
SUMMARY:Kreativ in Sieker
UID:e_101225662_iv1
URL:http://pages.destination.one/de/teutonavigator/streaming/detail/Event/e
 _101225662/kreativ-in-sieker
END:VEVENT
BEGIN:VEVENT
CATEGORIES:Workshop
CATEGORIES:Stadtfest/Kirmes/Jahrmarkt
CATEGORIES:Sonstiges
CATEGORIES:Brauchtum/Kultur
DESCRIPTION:Offene Mal- und Kreativgruppe für alle Interessierte\n\nmehr In
 formationen unter http://pages.destination.one/de/teutonavigator/streaming
 /detail/Event/e_101225662/kreativ-in-sieker
DTEND;TZID=Europe/Berlin:20260404T140000
DTSTAMP:20260422T120205Z
DTSTART;TZID=Europe/Berlin:20260404T100000
GEO:51.991990;8.606140
LOCATION:Bielefeld-Stieghorst\, \, Bielefeld
SEQUENCE:0
SUMMARY:Kreativ in Sieker
UID:e_101225662_iv2
URL:http://pages.destination.one/de/teutonavigator/streaming/detail/Event/e
 _101225662/kreativ-in-sieker
END:VEVENT
BEGIN:VEVENT
CATEGORIES:Workshop
CATEGORIES:Stadtfest/Kirmes/Jahrmarkt
CATEGORIES:Sonstiges
CATEGORIES:Brauchtum/Kultur
DESCRIPTION:Offene Mal- und Kreativgruppe für alle Interessierte\n\nmehr In
 formationen unter http://pages.destination.one/de/teutonavigator/streaming
 /detail/Event/e_101225662/kreativ-in-sieker
DTEND;TZID=Europe/Berlin:20260418T140000
DTSTAMP:20260422T120205Z
DTSTART;TZID=Europe/Berlin:20260418T100000
GEO:51.991990;8.606140
LOCATION:Bielefeld-Stieghorst\, \, Bielefeld
SEQUENCE:0
SUMMARY:Kreativ in Sieker
UID:e_101225662_iv3
URL:http://pages.destination.one/de/teutonavigator/streaming/detail/Event/e
 _101225662/kreativ-in-sieker
END:VEVENT
BEGIN:VEVENT
CATEGORIES:Workshop
CATEGORIES:Stadtfest/Kirmes/Jahrmarkt
CATEGORIES:Sonstiges
CATEGORIES:Brauchtum/Kultur
DESCRIPTION:Offene Mal- und Kreativgruppe für alle Interessierte\n\nmehr In
 formationen unter http://pages.destination.one/de/teutonavigator/streaming
 /detail/Event/e_101225662/kreativ-in-sieker
DTEND;TZID=Europe/Berlin:20260502T140000
DTSTAMP:20260422T120205Z
DTSTART;TZID=Europe/Berlin:20260502T100000
GEO:51.991990;8.606140
LOCATION:Bielefeld-Stieghorst\, \, Bielefeld
SEQUENCE:0
SUMMARY:Kreativ in Sieker
UID:e_101225662_iv4
URL:http://pages.destination.one/de/teutonavigator/streaming/detail/Event/e
 _101225662/kreativ-in-sieker
END:VEVENT
BEGIN:VEVENT
CATEGORIES:Workshop
CATEGORIES:Stadtfest/Kirmes/Jahrmarkt
CATEGORIES:Sonstiges
CATEGORIES:Brauchtum/Kultur
DESCRIPTION:Offene Mal- und Kreativgruppe für alle Interessierte\n\nmehr In
 formationen unter http://pages.destination.one/de/teutonavigator/streaming
 /detail/Event/e_101225662/kreativ-in-sieker
DTEND;TZID=Europe/Berlin:20260516T140000
DTSTAMP:20260422T120205Z
DTSTART;TZID=Europe/Berlin:20260516T100000
GEO:51.991990;8.606140
LOCATION:Bielefeld-Stieghorst\, \, Bielefeld
SEQUENCE:0
SUMMARY:Kreativ in Sieker
UID:e_101225662_iv5
URL:http://pages.destination.one/de/teutonavigator/streaming/detail/Event/e
 _101225662/kreativ-in-sieker
END:VEVENT
BEGIN:VEVENT
CATEGORIES:Workshop
CATEGORIES:Stadtfest/Kirmes/Jahrmarkt
CATEGORIES:Sonstiges
CATEGORIES:Brauchtum/Kultur
DESCRIPTION:Offene Mal- und Kreativgruppe für alle Interessierte\n\nmehr In
 formationen unter http://pages.destination.one/de/teutonavigator/streaming
 /detail/Event/e_101225662/kreativ-in-sieker
DTEND;TZID=Europe/Berlin:20260530T140000
DTSTAMP:20260422T120205Z
DTSTART;TZID=Europe/Berlin:20260530T100000
GEO:51.991990;8.606140
LOCATION:Bielefeld-Stieghorst\, \, Bielefeld
SEQUENCE:0
SUMMARY:Kreativ in Sieker
UID:e_101225662_iv6
URL:http://pages.destination.one/de/teutonavigator/streaming/detail/Event/e
 _101225662/kreativ-in-sieker
END:VEVENT
BEGIN:VEVENT
CATEGORIES:Workshop
CATEGORIES:Stadtfest/Kirmes/Jahrmarkt
CATEGORIES:Sonstiges
CATEGORIES:Brauchtum/Kultur
DESCRIPTION:Offene Mal- und Kreativgruppe für alle Interessierte\n\nmehr In
 formationen unter http://pages.destination.one/de/teutonavigator/streaming
 /detail/Event/e_101225662/kreativ-in-sieker
DTEND;TZID=Europe/Berlin:20260613T140000
DTSTAMP:20260422T120205Z
DTSTART;TZID=Europe/Berlin:20260613T100000
GEO:51.991990;8.606140
LOCATION:Bielefeld-Stieghorst\, \, Bielefeld
SEQUENCE:0
SUMMARY:Kreativ in Sieker
UID:e_101225662_iv7
URL:http://pages.destination.one/de/teutonavigator/streaming/detail/Event/e
 _101225662/kreativ-in-sieker
END:VEVENT
BEGIN:VEVENT
CATEGORIES:Workshop
CATEGORIES:Stadtfest/Kirmes/Jahrmarkt
CATEGORIES:Sonstiges
CATEGORIES:Brauchtum/Kultur
DESCRIPTION:Offene Mal- und Kreativgruppe für alle Interessierte\n\nmehr In
 formationen unter http://pages.destination.one/de/teutonavigator/streaming
 /detail/Event/e_101225662/kreativ-in-sieker
DTEND;TZID=Europe/Berlin:20260627T140000
DTSTAMP:20260422T120205Z
DTSTART;TZID=Europe/Berlin:20260627T100000
GEO:51.991990;8.606140
LOCATION:Bielefeld-Stieghorst\, \, Bielefeld
SEQUENCE:0
SUMMARY:Kreativ in Sieker
UID:e_101225662_iv8
URL:http://pages.destination.one/de/teutonavigator/streaming/detail/Event/e
 _101225662/kreativ-in-sieker
END:VEVENT
BEGIN:VTIMEZONE
TZID:Europe/Berlin
X-LIC-LOCATION:Europe/Berlin
BEGIN:DAYLIGHT
DTSTART:19700329T020000
RRULE:FREQ=YEARLY;BYDAY=-1SU;BYMONTH=3
TZNAME:CEST
TZOFFSETFROM:+0100
TZOFFSETTO:+0200
END:DAYLIGHT
BEGIN:STANDARD
DTSTART:19701025T030000
RRULE:FREQ=YEARLY;BYDAY=-1SU;BYMONTH=10
TZNAME:CET
TZOFFSETFROM:+0200
TZOFFSETTO:+0100
END:STANDARD
END:VTIMEZONE
END:VCALENDAR
