BEGIN:VCALENDAR
VERSION:2.0
PRODID:-//destination.one//NONSGML destination.meta API//DE
X-WR-CALDESC:A calendar powered by destination.meta
X-WR-CALNAME:teutonavigator Kalender via destination.meta
BEGIN:VEVENT
CATEGORIES:Brauchtum/Kultur
CATEGORIES:Film
DESCRIPTION:Kurzfilme\, Animationsvideos und Virtual-Reality-Produktionen a
 ller Studienrichtungen des Fachbereichs Gestaltung in Kooperation mit Salz
 erfilm.\n\nmehr Informationen unter http://pages.destination.one/de/teuton
 avigator/streaming/detail/Event/e_101225651/dmx-for-reel-filmfestival-im-l
 ichtwerk-kino
DTEND;TZID=Europe/Berlin:20260426T150000
DTSTAMP:20260422T085726Z
DTSTART;TZID=Europe/Berlin:20260426T110000
GEO:52.022125;8.544558
LOCATION:Lichtwerk\, Ravensberger Park 7\, Bielefeld
PRIORITY:4
SEQUENCE:0
SUMMARY:"DMX FOR REEL": Filmfestival im Lichtwerk-Kino
UID:e_101225651_iv0
URL:http://pages.destination.one/de/teutonavigator/streaming/detail/Event/e
 _101225651/dmx-for-reel-filmfestival-im-lichtwerk-kino
END:VEVENT
BEGIN:VTIMEZONE
TZID:Europe/Berlin
X-LIC-LOCATION:Europe/Berlin
BEGIN:DAYLIGHT
DTSTART:19700329T020000
RRULE:FREQ=YEARLY;BYDAY=-1SU;BYMONTH=3
TZNAME:CEST
TZOFFSETFROM:+0100
TZOFFSETTO:+0200
END:DAYLIGHT
BEGIN:STANDARD
DTSTART:19701025T030000
RRULE:FREQ=YEARLY;BYDAY=-1SU;BYMONTH=10
TZNAME:CET
TZOFFSETFROM:+0200
TZOFFSETTO:+0100
END:STANDARD
END:VTIMEZONE
END:VCALENDAR
