BEGIN:VCALENDAR
VERSION:2.0
PRODID:-//destination.one//NONSGML destination.meta API//DE
X-WR-CALDESC:A calendar powered by destination.meta
X-WR-CALNAME:teutonavigator Kalender via destination.meta
BEGIN:VEVENT
CATEGORIES:Sport/Freizeit
DESCRIPTION:Einfache Feierabend-Radtour von ca. 25 km\n\nmehr Informationen
  unter http://pages.destination.one/de/teutonavigator/streaming/detail/Eve
 nt/e_101225649/kleine-radtour-zum-obersee
DTEND;TZID=Europe/Berlin:20260603T211500
DTSTAMP:20260422T145035Z
DTSTART;TZID=Europe/Berlin:20260603T173000
GEO:52.028856;8.522848
LOCATION:Siegfriedplatz\, \, Bielefeld
SEQUENCE:0
SUMMARY:Kleine Radtour zum Obersee
UID:e_101225649_iv0
URL:http://pages.destination.one/de/teutonavigator/streaming/detail/Event/e
 _101225649/kleine-radtour-zum-obersee
END:VEVENT
BEGIN:VEVENT
CATEGORIES:Sport/Freizeit
DESCRIPTION:Einfache Feierabend-Radtour von ca. 25 km\n\nmehr Informationen
  unter http://pages.destination.one/de/teutonavigator/streaming/detail/Eve
 nt/e_101225649/kleine-radtour-zum-obersee
DTEND;TZID=Europe/Berlin:20260826T211500
DTSTAMP:20260422T145035Z
DTSTART;TZID=Europe/Berlin:20260826T173000
GEO:52.028856;8.522848
LOCATION:Siegfriedplatz\, \, Bielefeld
SEQUENCE:0
SUMMARY:Kleine Radtour zum Obersee
UID:e_101225649_iv1
URL:http://pages.destination.one/de/teutonavigator/streaming/detail/Event/e
 _101225649/kleine-radtour-zum-obersee
END:VEVENT
BEGIN:VTIMEZONE
TZID:Europe/Berlin
X-LIC-LOCATION:Europe/Berlin
BEGIN:DAYLIGHT
DTSTART:19700329T020000
RRULE:FREQ=YEARLY;BYDAY=-1SU;BYMONTH=3
TZNAME:CEST
TZOFFSETFROM:+0100
TZOFFSETTO:+0200
END:DAYLIGHT
BEGIN:STANDARD
DTSTART:19701025T030000
RRULE:FREQ=YEARLY;BYDAY=-1SU;BYMONTH=10
TZNAME:CET
TZOFFSETFROM:+0200
TZOFFSETTO:+0100
END:STANDARD
END:VTIMEZONE
END:VCALENDAR
