BEGIN:VCALENDAR
VERSION:2.0
PRODID:-//destination.one//NONSGML destination.meta API//DE
X-WR-CALDESC:A calendar powered by destination.meta
X-WR-CALNAME:teutonavigator Kalender via destination.meta
BEGIN:VEVENT
CATEGORIES:Sport/Freizeit
DESCRIPTION:Treffpunkt: ADFC-Infoladen\, Stapenhorststraße 46\n\nmehr Infor
 mationen unter http://pages.destination.one/de/teutonavigator/streaming/de
 tail/Event/e_101225648/feierabend-radtour-im-bielefelder-s-den-ca-30-km
DTEND;TZID=Europe/Berlin:20260529T210000
DTSTAMP:20260421T155018Z
DTSTART;TZID=Europe/Berlin:20260529T180000
GEO:52.026314;8.521817
LOCATION:ADFC-Infoladen\, Stapenhorststr. 46\, Bielefeld
SEQUENCE:0
SUMMARY:Feierabend-Radtour im Bielefelder Süden\, ca. 30 km
UID:e_101225648_iv0
URL:http://pages.destination.one/de/teutonavigator/streaming/detail/Event/e
 _101225648/feierabend-radtour-im-bielefelder-s-den-ca-30-km
END:VEVENT
BEGIN:VTIMEZONE
TZID:Europe/Berlin
X-LIC-LOCATION:Europe/Berlin
BEGIN:DAYLIGHT
DTSTART:19700329T020000
RRULE:FREQ=YEARLY;BYDAY=-1SU;BYMONTH=3
TZNAME:CEST
TZOFFSETFROM:+0100
TZOFFSETTO:+0200
END:DAYLIGHT
BEGIN:STANDARD
DTSTART:19701025T030000
RRULE:FREQ=YEARLY;BYDAY=-1SU;BYMONTH=10
TZNAME:CET
TZOFFSETFROM:+0200
TZOFFSETTO:+0100
END:STANDARD
END:VTIMEZONE
END:VCALENDAR
