BEGIN:VCALENDAR
VERSION:2.0
PRODID:-//destination.one//NONSGML destination.meta API//DE
X-WR-CALDESC:A calendar powered by destination.meta
X-WR-CALNAME:teutonavigator Kalender via destination.meta
BEGIN:VEVENT
CATEGORIES:Bühne divers
CATEGORIES:Brauchtum/Kultur
DESCRIPTION:Ergebnisse einer Residenz\n\nmehr Informationen unter http://pa
 ges.destination.one/de/teutonavigator/streaming/detail/Event/e_101225622/w
 ie-erz-hlen-wir-das-jetzt
DTEND;TZID=Europe/Berlin:20260529T210000
DTSTAMP:20260421T181630Z
DTSTART;TZID=Europe/Berlin:20260529T200000
GEO:52.018800;8.541000
LOCATION:Tor 6 Theaterhaus Bielefeld\, Hermann-Kleinewächter-Str. 4\, Biele
 feld
SEQUENCE:0
SUMMARY:Wie erzählen wir das jetzt?
UID:e_101225622_iv0
URL:http://pages.destination.one/de/teutonavigator/streaming/detail/Event/e
 _101225622/wie-erz-hlen-wir-das-jetzt
END:VEVENT
BEGIN:VEVENT
CATEGORIES:Bühne divers
CATEGORIES:Brauchtum/Kultur
DESCRIPTION:Ergebnisse einer Residenz\n\nmehr Informationen unter http://pa
 ges.destination.one/de/teutonavigator/streaming/detail/Event/e_101225622/w
 ie-erz-hlen-wir-das-jetzt
DTEND;TZID=Europe/Berlin:20260603T210000
DTSTAMP:20260421T181630Z
DTSTART;TZID=Europe/Berlin:20260603T200000
GEO:52.018800;8.541000
LOCATION:Tor 6 Theaterhaus Bielefeld\, Hermann-Kleinewächter-Str. 4\, Biele
 feld
SEQUENCE:0
SUMMARY:Wie erzählen wir das jetzt?
UID:e_101225622_iv1
URL:http://pages.destination.one/de/teutonavigator/streaming/detail/Event/e
 _101225622/wie-erz-hlen-wir-das-jetzt
END:VEVENT
BEGIN:VEVENT
CATEGORIES:Bühne divers
CATEGORIES:Brauchtum/Kultur
DESCRIPTION:Ergebnisse einer Residenz\n\nmehr Informationen unter http://pa
 ges.destination.one/de/teutonavigator/streaming/detail/Event/e_101225622/w
 ie-erz-hlen-wir-das-jetzt
DTEND;TZID=Europe/Berlin:20260606T210000
DTSTAMP:20260421T181630Z
DTSTART;TZID=Europe/Berlin:20260606T200000
GEO:52.018800;8.541000
LOCATION:Tor 6 Theaterhaus Bielefeld\, Hermann-Kleinewächter-Str. 4\, Biele
 feld
SEQUENCE:0
SUMMARY:Wie erzählen wir das jetzt?
UID:e_101225622_iv2
URL:http://pages.destination.one/de/teutonavigator/streaming/detail/Event/e
 _101225622/wie-erz-hlen-wir-das-jetzt
END:VEVENT
BEGIN:VTIMEZONE
TZID:Europe/Berlin
X-LIC-LOCATION:Europe/Berlin
BEGIN:DAYLIGHT
DTSTART:19700329T020000
RRULE:FREQ=YEARLY;BYDAY=-1SU;BYMONTH=3
TZNAME:CEST
TZOFFSETFROM:+0100
TZOFFSETTO:+0200
END:DAYLIGHT
BEGIN:STANDARD
DTSTART:19701025T030000
RRULE:FREQ=YEARLY;BYDAY=-1SU;BYMONTH=10
TZNAME:CET
TZOFFSETFROM:+0200
TZOFFSETTO:+0100
END:STANDARD
END:VTIMEZONE
END:VCALENDAR
