BEGIN:VCALENDAR
VERSION:2.0
PRODID:-//destination.one//NONSGML destination.meta API//DE
X-WR-CALDESC:A calendar powered by destination.meta
X-WR-CALNAME:teutonavigator Kalender via destination.meta
BEGIN:VEVENT
CATEGORIES:Bühne divers
CATEGORIES:Brauchtum/Kultur
CATEGORIES:Kinderprogramm
DESCRIPTION:Turbulentes Kaspertheater\n\nmehr Informationen unter http://pa
 ges.destination.one/de/teutonavigator/streaming/detail/Event/e_101225596/k
 asper-und-der-drachenhund
DTEND;TZID=Europe/Berlin:20260530T235900
DTSTAMP:20260422T144055Z
DTSTART;TZID=Europe/Berlin:20260530T160000
GEO:52.024117;8.533943
LOCATION:Bielefelder Puppenspiele – Dagmar Selje\, Herforder Straße 5-7\, B
 ielefeld
SEQUENCE:0
SUMMARY:Kasper und der Drachenhund
UID:e_101225596_iv0
URL:http://pages.destination.one/de/teutonavigator/streaming/detail/Event/e
 _101225596/kasper-und-der-drachenhund
END:VEVENT
BEGIN:VEVENT
CATEGORIES:Bühne divers
CATEGORIES:Brauchtum/Kultur
CATEGORIES:Kinderprogramm
DESCRIPTION:Turbulentes Kaspertheater\n\nmehr Informationen unter http://pa
 ges.destination.one/de/teutonavigator/streaming/detail/Event/e_101225596/k
 asper-und-der-drachenhund
DTEND;TZID=Europe/Berlin:20260531T235900
DTSTAMP:20260422T144055Z
DTSTART;TZID=Europe/Berlin:20260531T160000
GEO:52.024117;8.533943
LOCATION:Bielefelder Puppenspiele – Dagmar Selje\, Herforder Straße 5-7\, B
 ielefeld
SEQUENCE:0
SUMMARY:Kasper und der Drachenhund
UID:e_101225596_iv1
URL:http://pages.destination.one/de/teutonavigator/streaming/detail/Event/e
 _101225596/kasper-und-der-drachenhund
END:VEVENT
BEGIN:VTIMEZONE
TZID:Europe/Berlin
X-LIC-LOCATION:Europe/Berlin
BEGIN:DAYLIGHT
DTSTART:19700329T020000
RRULE:FREQ=YEARLY;BYDAY=-1SU;BYMONTH=3
TZNAME:CEST
TZOFFSETFROM:+0100
TZOFFSETTO:+0200
END:DAYLIGHT
BEGIN:STANDARD
DTSTART:19701025T030000
RRULE:FREQ=YEARLY;BYDAY=-1SU;BYMONTH=10
TZNAME:CET
TZOFFSETFROM:+0200
TZOFFSETTO:+0100
END:STANDARD
END:VTIMEZONE
END:VCALENDAR
