BEGIN:VCALENDAR
VERSION:2.0
PRODID:-//destination.one//NONSGML destination.meta API//DE
X-WR-CALDESC:A calendar powered by destination.meta
X-WR-CALNAME:teutonavigator Kalender via destination.meta
BEGIN:VEVENT
CATEGORIES:Führung/Besichtigung
DESCRIPTION:\n\nmehr Informationen unter http://pages.destination.one/de/te
 utonavigator/streaming/detail/Event/e_101225303/stadtf-hrung-waldbaden-shi
 nrin-yoku
DTEND;TZID=Europe/Berlin:20260912T160000
DTSTAMP:20260421T203258Z
DTSTART;TZID=Europe/Berlin:20260912T140000
GEO:52.040062;8.152559
LOCATION:Stadt Versmold\, Münsterstraße 16\, Versmold
ORGANIZER;CN=Stadt Versmold:mailto:mail@versmold.de
SEQUENCE:0
SUMMARY:Stadtführung Waldbaden "Shinrin Yoku"
UID:e_101225303_iv0
URL:http://pages.destination.one/de/teutonavigator/streaming/detail/Event/e
 _101225303/stadtf-hrung-waldbaden-shinrin-yoku
END:VEVENT
BEGIN:VTIMEZONE
TZID:Europe/Berlin
X-LIC-LOCATION:Europe/Berlin
BEGIN:DAYLIGHT
DTSTART:19700329T020000
RRULE:FREQ=YEARLY;BYDAY=-1SU;BYMONTH=3
TZNAME:CEST
TZOFFSETFROM:+0100
TZOFFSETTO:+0200
END:DAYLIGHT
BEGIN:STANDARD
DTSTART:19701025T030000
RRULE:FREQ=YEARLY;BYDAY=-1SU;BYMONTH=10
TZNAME:CET
TZOFFSETFROM:+0200
TZOFFSETTO:+0100
END:STANDARD
END:VTIMEZONE
END:VCALENDAR
