BEGIN:VCALENDAR
VERSION:2.0
PRODID:-//destination.one//NONSGML destination.meta API//DE
X-WR-CALDESC:A calendar powered by destination.meta
X-WR-CALNAME:teutonavigator Kalender via destination.meta
BEGIN:VEVENT
CATEGORIES:Ausstellung
DESCRIPTION:Im vergangenen November vor 40 Jahren starb Meret Oppenheim im 
 Alter von 72 Jahren. Als das surrealistische Manifest 1924 von André Breto
 n in Paris verfasst und veröffentlicht wurde\, war Oppenheim erst 11 Jahre
  alt. Während Künstler\, Philosophen und Schriftsteller in den Bars und Ca
 fés von Montparnasse und Montmartre bereits neue Formen von Kunst und Gese
 llschaft diskutierten und sich zu einer gemeinsamen Bewegung verbanden\, l
 ebte sie noch mit ihrer Familie in Lörrach. Neben André Breton\, Paul Élua
 rd und Max Ernst stießen schon bald weitere Künstlerpersönlichkeiten aus g
 anz Europa zu dieser Gruppierung\, etwa der Schweizer Bildhauer Alberto Gi
 acometti.\n\nmehr Informationen unter http://pages.destination.one/de/teut
 onavigator/streaming/detail/Event/e_101225294/einhornhexe-meret-oppenheim-
 freunde
DTEND;TZID=Europe/Berlin:20260321T180000
DTSTAMP:20260421T181649Z
DTSTART;TZID=Europe/Berlin:20260321T110000
GEO:52.120574;8.667688
LOCATION:Stiftung Ahlers Pro Arte\, Goebenstraße 2\, Herford
ORGANIZER;CN=Stiftung Ahlers Pro Arte:mailto:info@ahlers-proarte.de
RRULE:FREQ=WEEKLY;UNTIL=20260726T090000;BYDAY=TH,FR,SA,SU
SEQUENCE:0
SUMMARY:Einhornhexe - Meret Oppenheim & Freunde
UID:e_101225294_iv0
URL:http://pages.destination.one/de/teutonavigator/streaming/detail/Event/e
 _101225294/einhornhexe-meret-oppenheim-freunde
END:VEVENT
BEGIN:VTIMEZONE
TZID:Europe/Berlin
X-LIC-LOCATION:Europe/Berlin
BEGIN:DAYLIGHT
DTSTART:19700329T020000
RRULE:FREQ=YEARLY;BYDAY=-1SU;BYMONTH=3
TZNAME:CEST
TZOFFSETFROM:+0100
TZOFFSETTO:+0200
END:DAYLIGHT
BEGIN:STANDARD
DTSTART:19701025T030000
RRULE:FREQ=YEARLY;BYDAY=-1SU;BYMONTH=10
TZNAME:CET
TZOFFSETFROM:+0200
TZOFFSETTO:+0100
END:STANDARD
END:VTIMEZONE
END:VCALENDAR
