BEGIN:VCALENDAR
VERSION:2.0
PRODID:-//destination.one//NONSGML destination.meta API//DE
X-WR-CALDESC:A calendar powered by destination.meta
X-WR-CALNAME:teutonavigator Kalender via destination.meta
BEGIN:VEVENT
CATEGORIES:Ausflug/Exkursion
CATEGORIES:Wanderung
DESCRIPTION:Eine Familienwanderung (Familienwaldbaden) für kleine und große
  Entdecker.\n\nmehr Informationen unter http://pages.destination.one/de/te
 utonavigator/streaming/detail/Event/e_101225246/familienwanderung-mit-teut
 us-durch-den-zauberwald
DTEND;TZID=Europe/Berlin:20260321T153000
DTSTAMP:20260421T214009Z
DTSTART;TZID=Europe/Berlin:20260321T133000
GEO:51.828184;8.839528
LOCATION:ehemaliges Jagdschloss Oesterholz-Haustenbeck\, Im Kleinen Bruch 1
 \, Schlangen
SEQUENCE:0
SUMMARY:Familienwanderung - Mit Teutus durch den Zauberwald
UID:e_101225246_iv0
URL:http://pages.destination.one/de/teutonavigator/streaming/detail/Event/e
 _101225246/familienwanderung-mit-teutus-durch-den-zauberwald
END:VEVENT
BEGIN:VEVENT
CATEGORIES:Ausflug/Exkursion
CATEGORIES:Wanderung
DESCRIPTION:Eine Familienwanderung (Familienwaldbaden) für kleine und große
  Entdecker.\n\nmehr Informationen unter http://pages.destination.one/de/te
 utonavigator/streaming/detail/Event/e_101225246/familienwanderung-mit-teut
 us-durch-den-zauberwald
DTEND;TZID=Europe/Berlin:20260803T153000
DTSTAMP:20260421T214009Z
DTSTART;TZID=Europe/Berlin:20260803T133000
GEO:51.828184;8.839528
LOCATION:ehemaliges Jagdschloss Oesterholz-Haustenbeck\, Im Kleinen Bruch 1
 \, Schlangen
SEQUENCE:0
SUMMARY:Familienwanderung - Mit Teutus durch den Zauberwald
UID:e_101225246_iv1
URL:http://pages.destination.one/de/teutonavigator/streaming/detail/Event/e
 _101225246/familienwanderung-mit-teutus-durch-den-zauberwald
END:VEVENT
BEGIN:VTIMEZONE
TZID:Europe/Berlin
X-LIC-LOCATION:Europe/Berlin
BEGIN:DAYLIGHT
DTSTART:19700329T020000
RRULE:FREQ=YEARLY;BYDAY=-1SU;BYMONTH=3
TZNAME:CEST
TZOFFSETFROM:+0100
TZOFFSETTO:+0200
END:DAYLIGHT
BEGIN:STANDARD
DTSTART:19701025T030000
RRULE:FREQ=YEARLY;BYDAY=-1SU;BYMONTH=10
TZNAME:CET
TZOFFSETFROM:+0200
TZOFFSETTO:+0100
END:STANDARD
END:VTIMEZONE
END:VCALENDAR
