BEGIN:VCALENDAR
VERSION:2.0
PRODID:-//destination.one//NONSGML destination.meta API//DE
X-WR-CALDESC:A calendar powered by destination.meta
X-WR-CALNAME:teutonavigator Kalender via destination.meta
BEGIN:VEVENT
CATEGORIES:Ausstellung
CATEGORIES:Führung/Besichtigung
CATEGORIES:Kurs/Seminar/Hobby
CATEGORIES:Sonstiges
DESCRIPTION:\n\nmehr Informationen unter http://pages.destination.one/de/te
 utonavigator/streaming/detail/Event/e_101225200/instrumentenvorstellung
DTEND;TZID=Europe/Berlin:20260509T130000
DTSTAMP:20260422T144049Z
DTSTART;TZID=Europe/Berlin:20260509T110000
GEO:52.305795;8.495530
LOCATION:Bürgerhaus Preußisch Oldendorf\, Mindener Straße 3\, Preußisch Old
 endorf
ORGANIZER;CN=Musikschule Preußisch Oldendorf:mailto:info@pro-musikschule.de
SEQUENCE:0
SUMMARY:Instrumentenvorstellung
UID:e_101225200_iv0
URL:http://pages.destination.one/de/teutonavigator/streaming/detail/Event/e
 _101225200/instrumentenvorstellung
END:VEVENT
BEGIN:VTIMEZONE
TZID:Europe/Berlin
X-LIC-LOCATION:Europe/Berlin
BEGIN:DAYLIGHT
DTSTART:19700329T020000
RRULE:FREQ=YEARLY;BYDAY=-1SU;BYMONTH=3
TZNAME:CEST
TZOFFSETFROM:+0100
TZOFFSETTO:+0200
END:DAYLIGHT
BEGIN:STANDARD
DTSTART:19701025T030000
RRULE:FREQ=YEARLY;BYDAY=-1SU;BYMONTH=10
TZNAME:CET
TZOFFSETFROM:+0200
TZOFFSETTO:+0100
END:STANDARD
END:VTIMEZONE
END:VCALENDAR
