BEGIN:VCALENDAR
VERSION:2.0
PRODID:-//destination.one//NONSGML destination.meta API//DE
X-WR-CALDESC:A calendar powered by destination.meta
X-WR-CALNAME:teutonavigator Kalender via destination.meta
BEGIN:VEVENT
CATEGORIES:Vortrag/Lesung
DESCRIPTION:Buchvorstellung mit Autorenlesung\, Dialogen und einem Zeitzeug
 eninterview\n\nmehr Informationen unter http://pages.destination.one/de/te
 utonavigator/streaming/detail/Event/e_101224936/das-leben-in-den-polend-rf
 ern
DTEND;TZID=Europe/Berlin:20260419T235900
DTSTAMP:20260421T124122Z
DTSTART;TZID=Europe/Berlin:20260419T160000
GEO:52.339136;8.949839
LOCATION:Alte Schule Wietersheim | LandArt-Station 1.15\, Unterdorf  9\, Pe
 tershagen
SEQUENCE:0
SUMMARY: Das Leben in den "Polendörfern"
UID:e_101224936_iv0
URL:http://pages.destination.one/de/teutonavigator/streaming/detail/Event/e
 _101224936/das-leben-in-den-polend-rfern
END:VEVENT
BEGIN:VTIMEZONE
TZID:Europe/Berlin
X-LIC-LOCATION:Europe/Berlin
BEGIN:DAYLIGHT
DTSTART:19700329T020000
RRULE:FREQ=YEARLY;BYDAY=-1SU;BYMONTH=3
TZNAME:CEST
TZOFFSETFROM:+0100
TZOFFSETTO:+0200
END:DAYLIGHT
BEGIN:STANDARD
DTSTART:19701025T030000
RRULE:FREQ=YEARLY;BYDAY=-1SU;BYMONTH=10
TZNAME:CET
TZOFFSETFROM:+0200
TZOFFSETTO:+0100
END:STANDARD
END:VTIMEZONE
END:VCALENDAR
