BEGIN:VCALENDAR
VERSION:2.0
PRODID:-//destination.one//NONSGML destination.meta API//DE
X-WR-CALDESC:A calendar powered by destination.meta
X-WR-CALNAME:teutonavigator Kalender via destination.meta
BEGIN:VEVENT
CATEGORIES:Vortrag/Lesung
DESCRIPTION:"Wie kann man im 21. Jahrhundert noch an Gott glauben?"\n\nmehr
  Informationen unter http://pages.destination.one/de/teutonavigator/stream
 ing/detail/Event/e_101224484/lesung-mit-spiegel-bestseller-autor-tobias-ha
 berl-unter-heiden
DTEND;TZID=Europe/Berlin:20260428T203000
DTSTAMP:20260421T163916Z
DTSTART;TZID=Europe/Berlin:20260428T190000
GEO:51.775490;9.380280
LOCATION:Haus der VHS\, Möllingerstraße 9\, Höxter
ORGANIZER;CN=Volkshochschule Höxter-Marienmünster:mailto:m.hildebrandt@vhs-
 hoexter.de
PRIORITY:4
SEQUENCE:0
SUMMARY:Lesung mit Spiegel-Bestseller-Autor Tobias Haberl: "Unter Heiden"
UID:e_101224484_iv0
URL:http://pages.destination.one/de/teutonavigator/streaming/detail/Event/e
 _101224484/lesung-mit-spiegel-bestseller-autor-tobias-haberl-unter-heiden
END:VEVENT
BEGIN:VTIMEZONE
TZID:Europe/Berlin
X-LIC-LOCATION:Europe/Berlin
BEGIN:DAYLIGHT
DTSTART:19700329T020000
RRULE:FREQ=YEARLY;BYDAY=-1SU;BYMONTH=3
TZNAME:CEST
TZOFFSETFROM:+0100
TZOFFSETTO:+0200
END:DAYLIGHT
BEGIN:STANDARD
DTSTART:19701025T030000
RRULE:FREQ=YEARLY;BYDAY=-1SU;BYMONTH=10
TZNAME:CET
TZOFFSETFROM:+0200
TZOFFSETTO:+0100
END:STANDARD
END:VTIMEZONE
END:VCALENDAR
