BEGIN:VCALENDAR
VERSION:2.0
PRODID:-//destination.one//NONSGML destination.meta API//DE
X-WR-CALDESC:A calendar powered by destination.meta
X-WR-CALNAME:teutonavigator Kalender via destination.meta
BEGIN:VEVENT
CATEGORIES:Ausflug/Exkursion
CATEGORIES:Führung/Besichtigung
CATEGORIES:Wanderung
DESCRIPTION:Zwischen flachen Wasserstellen\, sogenannten Blänken\, und natu
 rnahen Bachauen entfaltet sich am Steinhorster Becken eine vielfältige Feu
 chtlandschaft. Entdecken Sie Klimaspuren zwischen Hochwasserschutz\, Renat
 urierung und Vogelwelt. Dieses kostenlose Angebot bietet Ihnen die Möglich
 keit\, die Region in Begleitung von DWV-zertifizierten Wanderführern zu er
 kunden.\n\nmehr Informationen unter http://pages.destination.one/de/teuton
 avigator/streaming/detail/Event/e_101224414/natur-pur-rietberg-bl-nken-wie
 sen-und-weite-auen
DTEND;TZID=Europe/Berlin:20240602T150000
DTSTAMP:20260421T155156Z
DTSTART;TZID=Europe/Berlin:20240602T100000
GEO:51.819048;8.530101
LOCATION:Vogelbeobachtungsturm \, Westerwieher Straße 340 \, Rietberg
SEQUENCE:0
SUMMARY:NATUR.PUR – Rietberg: Blänken\, Wiesen und weite Auen
UID:e_101224414_iv0
URL:http://pages.destination.one/de/teutonavigator/streaming/detail/Event/e
 _101224414/natur-pur-rietberg-bl-nken-wiesen-und-weite-auen
END:VEVENT
BEGIN:VEVENT
CATEGORIES:Ausflug/Exkursion
CATEGORIES:Führung/Besichtigung
CATEGORIES:Wanderung
DESCRIPTION:Zwischen flachen Wasserstellen\, sogenannten Blänken\, und natu
 rnahen Bachauen entfaltet sich am Steinhorster Becken eine vielfältige Feu
 chtlandschaft. Entdecken Sie Klimaspuren zwischen Hochwasserschutz\, Renat
 urierung und Vogelwelt. Dieses kostenlose Angebot bietet Ihnen die Möglich
 keit\, die Region in Begleitung von DWV-zertifizierten Wanderführern zu er
 kunden.\n\nmehr Informationen unter http://pages.destination.one/de/teuton
 avigator/streaming/detail/Event/e_101224414/natur-pur-rietberg-bl-nken-wie
 sen-und-weite-auen
DTEND;TZID=Europe/Berlin:20240929T150000
DTSTAMP:20260421T155156Z
DTSTART;TZID=Europe/Berlin:20240929T100000
GEO:51.819048;8.530101
LOCATION:Vogelbeobachtungsturm \, Westerwieher Straße 340 \, Rietberg
SEQUENCE:0
SUMMARY:NATUR.PUR – Rietberg: Blänken\, Wiesen und weite Auen
UID:e_101224414_iv1
URL:http://pages.destination.one/de/teutonavigator/streaming/detail/Event/e
 _101224414/natur-pur-rietberg-bl-nken-wiesen-und-weite-auen
END:VEVENT
BEGIN:VEVENT
CATEGORIES:Ausflug/Exkursion
CATEGORIES:Führung/Besichtigung
CATEGORIES:Wanderung
DESCRIPTION:Zwischen flachen Wasserstellen\, sogenannten Blänken\, und natu
 rnahen Bachauen entfaltet sich am Steinhorster Becken eine vielfältige Feu
 chtlandschaft. Entdecken Sie Klimaspuren zwischen Hochwasserschutz\, Renat
 urierung und Vogelwelt. Dieses kostenlose Angebot bietet Ihnen die Möglich
 keit\, die Region in Begleitung von DWV-zertifizierten Wanderführern zu er
 kunden.\n\nmehr Informationen unter http://pages.destination.one/de/teuton
 avigator/streaming/detail/Event/e_101224414/natur-pur-rietberg-bl-nken-wie
 sen-und-weite-auen
DTEND;TZID=Europe/Berlin:20260829T160000
DTSTAMP:20260421T155156Z
DTSTART;TZID=Europe/Berlin:20260829T130000
GEO:51.819048;8.530101
LOCATION:Vogelbeobachtungsturm \, Westerwieher Straße 340 \, Rietberg
SEQUENCE:0
SUMMARY:NATUR.PUR – Rietberg: Blänken\, Wiesen und weite Auen
UID:e_101224414_iv2
URL:http://pages.destination.one/de/teutonavigator/streaming/detail/Event/e
 _101224414/natur-pur-rietberg-bl-nken-wiesen-und-weite-auen
END:VEVENT
BEGIN:VTIMEZONE
TZID:Europe/Berlin
X-LIC-LOCATION:Europe/Berlin
BEGIN:DAYLIGHT
DTSTART:19700329T020000
RRULE:FREQ=YEARLY;BYDAY=-1SU;BYMONTH=3
TZNAME:CEST
TZOFFSETFROM:+0100
TZOFFSETTO:+0200
END:DAYLIGHT
BEGIN:STANDARD
DTSTART:19701025T030000
RRULE:FREQ=YEARLY;BYDAY=-1SU;BYMONTH=10
TZNAME:CET
TZOFFSETFROM:+0200
TZOFFSETTO:+0100
END:STANDARD
END:VTIMEZONE
END:VCALENDAR
