BEGIN:VCALENDAR
VERSION:2.0
PRODID:-//destination.one//NONSGML destination.meta API//DE
X-WR-CALDESC:A calendar powered by destination.meta
X-WR-CALNAME:teutonavigator Kalender via destination.meta
BEGIN:VEVENT
CATEGORIES:Country
CATEGORIES:Folk
CATEGORIES:Pop
DESCRIPTION:SOMMERBÜHNE DES JFK / LandArt-Kulturwochen 2026\n\nmehr Informa
 tionen unter http://pages.destination.one/de/teutonavigator/streaming/deta
 il/Event/e_101224365/j-rdis-tielsch-duo-songwriting-mit-groove-und-seele
DTEND;TZID=Europe/Berlin:20260628T180000
DTSTAMP:20260420T001020Z
DTSTART;TZID=Europe/Berlin:20260628T160000
GEO:52.433955;8.461661
LOCATION:Life House\, Am Schulzentrum 14\, Stemwede
ORGANIZER;CN="Verein für Jugend, Freizeit und Kultur in Stemwede e.V.":mail
 to:info@jfk-stemwede.de
SEQUENCE:0
SUMMARY:Jördis Tielsch Duo – Songwriting mit Groove und Seele
UID:e_101224365_iv0
URL:http://pages.destination.one/de/teutonavigator/streaming/detail/Event/e
 _101224365/j-rdis-tielsch-duo-songwriting-mit-groove-und-seele
END:VEVENT
BEGIN:VTIMEZONE
TZID:Europe/Berlin
X-LIC-LOCATION:Europe/Berlin
BEGIN:DAYLIGHT
DTSTART:19700329T020000
RRULE:FREQ=YEARLY;BYDAY=-1SU;BYMONTH=3
TZNAME:CEST
TZOFFSETFROM:+0100
TZOFFSETTO:+0200
END:DAYLIGHT
BEGIN:STANDARD
DTSTART:19701025T030000
RRULE:FREQ=YEARLY;BYDAY=-1SU;BYMONTH=10
TZNAME:CET
TZOFFSETFROM:+0200
TZOFFSETTO:+0100
END:STANDARD
END:VTIMEZONE
END:VCALENDAR
