BEGIN:VCALENDAR
VERSION:2.0
PRODID:-//destination.one//NONSGML destination.meta API//DE
X-WR-CALDESC:A calendar powered by destination.meta
X-WR-CALNAME:teutonavigator Kalender via destination.meta
BEGIN:VEVENT
CATEGORIES:Punkrock
DESCRIPTION:Honeybunch Experience - Mururoa Attäck - Zeckenalarm\n\nmehr In
 formationen unter http://pages.destination.one/de/teutonavigator/streaming
 /detail/Event/e_101224353/18-jahre-punkrock-vom-dorf
DTEND;TZID=Europe/Berlin:20260516T230000
DTSTAMP:20260421T181526Z
DTSTART;TZID=Europe/Berlin:20260516T200000
GEO:52.433955;8.461661
LOCATION:Life House\, Am Schulzentrum 14\, Stemwede
ORGANIZER;CN="Verein für Jugend, Freizeit und Kultur in Stemwede e.V.":mail
 to:info@jfk-stemwede.de
PRIORITY:4
SEQUENCE:0
SUMMARY:18 Jahre Punkrock vom Dorf
UID:e_101224353_iv0
URL:http://pages.destination.one/de/teutonavigator/streaming/detail/Event/e
 _101224353/18-jahre-punkrock-vom-dorf
END:VEVENT
BEGIN:VTIMEZONE
TZID:Europe/Berlin
X-LIC-LOCATION:Europe/Berlin
BEGIN:DAYLIGHT
DTSTART:19700329T020000
RRULE:FREQ=YEARLY;BYDAY=-1SU;BYMONTH=3
TZNAME:CEST
TZOFFSETFROM:+0100
TZOFFSETTO:+0200
END:DAYLIGHT
BEGIN:STANDARD
DTSTART:19701025T030000
RRULE:FREQ=YEARLY;BYDAY=-1SU;BYMONTH=10
TZNAME:CET
TZOFFSETFROM:+0200
TZOFFSETTO:+0100
END:STANDARD
END:VTIMEZONE
END:VCALENDAR
