BEGIN:VCALENDAR
VERSION:2.0
PRODID:-//destination.one//NONSGML destination.meta API//DE
X-WR-CALDESC:A calendar powered by destination.meta
X-WR-CALNAME:teutonavigator Kalender via destination.meta
BEGIN:VEVENT
CATEGORIES:R'n'B
CATEGORIES:Soul
DESCRIPTION:Acoustic MusicDas Duo „White Coffee“ spielt handgemachte Musik 
 die echt und ehrlich ist.\n\nmehr Informationen unter http://pages.destina
 tion.one/de/teutonavigator/streaming/detail/Event/e_101224342/hutkonzert-m
 it-white-coffee
DTEND;TZID=Europe/Berlin:20260504T220000
DTSTAMP:20260421T140155Z
DTSTART;TZID=Europe/Berlin:20260504T190000
GEO:52.434419;8.462048
LOCATION:Kulturtreff Q \, Am Schulzentrum 14 \, Stemwede
ORGANIZER;CN="Verein für Jugend, Freizeit und Kultur in Stemwede e.V.":mail
 to:info@jfk-stemwede.de
SEQUENCE:0
SUMMARY:Hutkonzert mit White Coffee
UID:e_101224342_iv0
URL:http://pages.destination.one/de/teutonavigator/streaming/detail/Event/e
 _101224342/hutkonzert-mit-white-coffee
END:VEVENT
BEGIN:VTIMEZONE
TZID:Europe/Berlin
X-LIC-LOCATION:Europe/Berlin
BEGIN:DAYLIGHT
DTSTART:19700329T020000
RRULE:FREQ=YEARLY;BYDAY=-1SU;BYMONTH=3
TZNAME:CEST
TZOFFSETFROM:+0100
TZOFFSETTO:+0200
END:DAYLIGHT
BEGIN:STANDARD
DTSTART:19701025T030000
RRULE:FREQ=YEARLY;BYDAY=-1SU;BYMONTH=10
TZNAME:CET
TZOFFSETFROM:+0200
TZOFFSETTO:+0100
END:STANDARD
END:VTIMEZONE
END:VCALENDAR
