BEGIN:VCALENDAR
VERSION:2.0
PRODID:-//destination.one//NONSGML destination.meta API//DE
X-WR-CALDESC:A calendar powered by destination.meta
X-WR-CALNAME:teutonavigator Kalender via destination.meta
BEGIN:VEVENT
CATEGORIES:Musical & Musiktheater
DESCRIPTION:Ein bewegendes Musiktheater über Fußballfieber\, familiären Zus
 ammenhalt und große Träume im Jahr 1954.\n\nmehr Informationen unter http:
 //pages.destination.one/de/teutonavigator/streaming/detail/Event/e_1012234
 96/freilichtb-hne-porta-das-wunder-von-bern
DTEND;TZID=Europe/Berlin:20260619T223000
DTSTAMP:20260421T181553Z
DTSTART;TZID=Europe/Berlin:20260619T203000
GEO:52.246916;8.909563
LOCATION:Goethe-Freilichtbühne Porta Westfalica\, Unter den Tannen\, Porta 
 Westfalica
ORGANIZER;CN=Goethe-Freilichtbühne Porta Westfalica:mailto:info@portabuehne
 .de
RRULE:FREQ=WEEKLY;UNTIL=20260619T203000;BYDAY=FR,SA
SEQUENCE:0
SUMMARY:Freilichtbühne Porta: Das Wunder von Bern
UID:e_101223496_iv0
URL:http://pages.destination.one/de/teutonavigator/streaming/detail/Event/e
 _101223496/freilichtb-hne-porta-das-wunder-von-bern
END:VEVENT
BEGIN:VEVENT
CATEGORIES:Musical & Musiktheater
DESCRIPTION:Ein bewegendes Musiktheater über Fußballfieber\, familiären Zus
 ammenhalt und große Träume im Jahr 1954.\n\nmehr Informationen unter http:
 //pages.destination.one/de/teutonavigator/streaming/detail/Event/e_1012234
 96/freilichtb-hne-porta-das-wunder-von-bern
DTEND;TZID=Europe/Berlin:20260627T223000
DTSTAMP:20260421T181553Z
DTSTART;TZID=Europe/Berlin:20260627T203000
GEO:52.246916;8.909563
LOCATION:Goethe-Freilichtbühne Porta Westfalica\, Unter den Tannen\, Porta 
 Westfalica
ORGANIZER;CN=Goethe-Freilichtbühne Porta Westfalica:mailto:info@portabuehne
 .de
RRULE:FREQ=WEEKLY;UNTIL=20260717T203000;BYDAY=FR,SA
SEQUENCE:0
SUMMARY:Freilichtbühne Porta: Das Wunder von Bern
UID:e_101223496_iv1
URL:http://pages.destination.one/de/teutonavigator/streaming/detail/Event/e
 _101223496/freilichtb-hne-porta-das-wunder-von-bern
END:VEVENT
BEGIN:VEVENT
CATEGORIES:Musical & Musiktheater
DESCRIPTION:Ein bewegendes Musiktheater über Fußballfieber\, familiären Zus
 ammenhalt und große Träume im Jahr 1954.\n\nmehr Informationen unter http:
 //pages.destination.one/de/teutonavigator/streaming/detail/Event/e_1012234
 96/freilichtb-hne-porta-das-wunder-von-bern
DTEND;TZID=Europe/Berlin:20260628T223000
DTSTAMP:20260421T181553Z
DTSTART;TZID=Europe/Berlin:20260628T203000
GEO:52.246916;8.909563
LOCATION:Goethe-Freilichtbühne Porta Westfalica\, Unter den Tannen\, Porta 
 Westfalica
ORGANIZER;CN=Goethe-Freilichtbühne Porta Westfalica:mailto:info@portabuehne
 .de
SEQUENCE:0
SUMMARY:Freilichtbühne Porta: Das Wunder von Bern
UID:e_101223496_iv2
URL:http://pages.destination.one/de/teutonavigator/streaming/detail/Event/e
 _101223496/freilichtb-hne-porta-das-wunder-von-bern
END:VEVENT
BEGIN:VEVENT
CATEGORIES:Musical & Musiktheater
DESCRIPTION:Ein bewegendes Musiktheater über Fußballfieber\, familiären Zus
 ammenhalt und große Träume im Jahr 1954.\n\nmehr Informationen unter http:
 //pages.destination.one/de/teutonavigator/streaming/detail/Event/e_1012234
 96/freilichtb-hne-porta-das-wunder-von-bern
DTEND;TZID=Europe/Berlin:20260815T223000
DTSTAMP:20260421T181553Z
DTSTART;TZID=Europe/Berlin:20260815T203000
GEO:52.246916;8.909563
LOCATION:Goethe-Freilichtbühne Porta Westfalica\, Unter den Tannen\, Porta 
 Westfalica
ORGANIZER;CN=Goethe-Freilichtbühne Porta Westfalica:mailto:info@portabuehne
 .de
RRULE:FREQ=WEEKLY;UNTIL=20260904T203000;BYDAY=FR,SA
SEQUENCE:0
SUMMARY:Freilichtbühne Porta: Das Wunder von Bern
UID:e_101223496_iv3
URL:http://pages.destination.one/de/teutonavigator/streaming/detail/Event/e
 _101223496/freilichtb-hne-porta-das-wunder-von-bern
END:VEVENT
BEGIN:VEVENT
CATEGORIES:Musical & Musiktheater
DESCRIPTION:Ein bewegendes Musiktheater über Fußballfieber\, familiären Zus
 ammenhalt und große Träume im Jahr 1954.\n\nmehr Informationen unter http:
 //pages.destination.one/de/teutonavigator/streaming/detail/Event/e_1012234
 96/freilichtb-hne-porta-das-wunder-von-bern
DTEND;TZID=Europe/Berlin:20260911T223000
DTSTAMP:20260421T181553Z
DTSTART;TZID=Europe/Berlin:20260911T203000
GEO:52.246916;8.909563
LOCATION:Goethe-Freilichtbühne Porta Westfalica\, Unter den Tannen\, Porta 
 Westfalica
ORGANIZER;CN=Goethe-Freilichtbühne Porta Westfalica:mailto:info@portabuehne
 .de
RRULE:FREQ=WEEKLY;UNTIL=20260912T183000;BYDAY=FR,SA
SEQUENCE:0
SUMMARY:Freilichtbühne Porta: Das Wunder von Bern
UID:e_101223496_iv4
URL:http://pages.destination.one/de/teutonavigator/streaming/detail/Event/e
 _101223496/freilichtb-hne-porta-das-wunder-von-bern
END:VEVENT
BEGIN:VTIMEZONE
TZID:Europe/Berlin
X-LIC-LOCATION:Europe/Berlin
BEGIN:DAYLIGHT
DTSTART:19700329T020000
RRULE:FREQ=YEARLY;BYDAY=-1SU;BYMONTH=3
TZNAME:CEST
TZOFFSETFROM:+0100
TZOFFSETTO:+0200
END:DAYLIGHT
BEGIN:STANDARD
DTSTART:19701025T030000
RRULE:FREQ=YEARLY;BYDAY=-1SU;BYMONTH=10
TZNAME:CET
TZOFFSETFROM:+0200
TZOFFSETTO:+0100
END:STANDARD
END:VTIMEZONE
END:VCALENDAR
