BEGIN:VCALENDAR
VERSION:2.0
PRODID:-//destination.one//NONSGML destination.meta API//DE
X-WR-CALDESC:A calendar powered by destination.meta
X-WR-CALNAME:teutonavigator Kalender via destination.meta
BEGIN:VEVENT
CATEGORIES:Blues
DESCRIPTION:The Good Old Blues Brothers Band bringt den Sound von Soul und 
 Blues ins Waldfreibad Espelkamp.\n\nmehr Informationen unter http://pages.
 destination.one/de/teutonavigator/streaming/detail/Event/e_101223368/irisc
 he-nacht-im-waldfreibad
DTEND;TZID=Europe/Berlin:20260821T230000
DTSTAMP:20260422T081840Z
DTSTART;TZID=Europe/Berlin:20260821T191000
GEO:52.380747;8.628179
LOCATION:Waldfreibad Espelkamp\, Trakehner Straße 7\, Espelkamp
ORGANIZER;CN=Pro Waldfreibad e.V.:mailto:1.vorsitzender@waldfreibad-espelka
 mp.de
PRIORITY:4
SEQUENCE:0
SUMMARY:Irische Nacht im Waldfreibad
UID:e_101223368_iv0
URL:http://pages.destination.one/de/teutonavigator/streaming/detail/Event/e
 _101223368/irische-nacht-im-waldfreibad
END:VEVENT
BEGIN:VTIMEZONE
TZID:Europe/Berlin
X-LIC-LOCATION:Europe/Berlin
BEGIN:DAYLIGHT
DTSTART:19700329T020000
RRULE:FREQ=YEARLY;BYDAY=-1SU;BYMONTH=3
TZNAME:CEST
TZOFFSETFROM:+0100
TZOFFSETTO:+0200
END:DAYLIGHT
BEGIN:STANDARD
DTSTART:19701025T030000
RRULE:FREQ=YEARLY;BYDAY=-1SU;BYMONTH=10
TZNAME:CET
TZOFFSETFROM:+0200
TZOFFSETTO:+0100
END:STANDARD
END:VTIMEZONE
END:VCALENDAR
