BEGIN:VCALENDAR
VERSION:2.0
PRODID:-//destination.one//NONSGML destination.meta API//DE
X-WR-CALDESC:A calendar powered by destination.meta
X-WR-CALNAME:teutonavigator Kalender via destination.meta
BEGIN:VEVENT
CATEGORIES:Blues
DESCRIPTION:Wenn „The Good Old Blues Brothers Band“ im Waldfreibad Espelkam
 p auftritt\, trifft kraftvoller Blues auf besondere Open-Air-Atmosphäre.\n
 \nmehr Informationen unter http://pages.destination.one/de/teutonavigator/
 streaming/detail/Event/e_101223366/the-good-old-blues-brothers-band-im-wal
 dfreibad-espelkamp
DTEND;TZID=Europe/Berlin:20260717T220000
DTSTAMP:20260419T224017Z
DTSTART;TZID=Europe/Berlin:20260717T191500
GEO:52.380747;8.628179
LOCATION:Waldfreibad Espelkamp\, Trakehner Straße 7\, Espelkamp
ORGANIZER;CN=Pro Waldfreibad e.V.:mailto:1.vorsitzender@waldfreibad-espelka
 mp.de
SEQUENCE:0
SUMMARY:The Good Old Blues Brothers Band im Waldfreibad Espelkamp
UID:e_101223366_iv0
URL:http://pages.destination.one/de/teutonavigator/streaming/detail/Event/e
 _101223366/the-good-old-blues-brothers-band-im-waldfreibad-espelkamp
END:VEVENT
BEGIN:VTIMEZONE
TZID:Europe/Berlin
X-LIC-LOCATION:Europe/Berlin
BEGIN:DAYLIGHT
DTSTART:19700329T020000
RRULE:FREQ=YEARLY;BYDAY=-1SU;BYMONTH=3
TZNAME:CEST
TZOFFSETFROM:+0100
TZOFFSETTO:+0200
END:DAYLIGHT
BEGIN:STANDARD
DTSTART:19701025T030000
RRULE:FREQ=YEARLY;BYDAY=-1SU;BYMONTH=10
TZNAME:CET
TZOFFSETFROM:+0200
TZOFFSETTO:+0100
END:STANDARD
END:VTIMEZONE
END:VCALENDAR
