BEGIN:VCALENDAR
VERSION:2.0
PRODID:-//destination.one//NONSGML destination.meta API//DE
X-WR-CALDESC:A calendar powered by destination.meta
X-WR-CALNAME:teutonavigator Kalender via destination.meta
BEGIN:VEVENT
CATEGORIES:Sonstiges
DESCRIPTION:Ausstellung Kabinett Stückchen im Experiment\n\nmehr Informatio
 nen unter http://pages.destination.one/de/teutonavigator/streaming/detail/
 Event/e_101222828/kabinett-st-ckchen
DTEND;TZID=Europe/Berlin:20260322T160000
DTSTAMP:20260421T170643Z
DTSTART;TZID=Europe/Berlin:20260322T110000
GEO:52.276260;8.882350
LOCATION:DS 9 Kunstraum\, Drosselstraße 9\, Minden
ORGANIZER;CN=Liselotte Bombitzki:mailto:li.bombitzki@t-online.de
RRULE:FREQ=WEEKLY;UNTIL=20260426T220000;BYDAY=MO,TU,WE,TH,FR,SA,SU
SEQUENCE:0
SUMMARY:Kabinett Stückchen
UID:e_101222828_iv0
URL:http://pages.destination.one/de/teutonavigator/streaming/detail/Event/e
 _101222828/kabinett-st-ckchen
END:VEVENT
BEGIN:VTIMEZONE
TZID:Europe/Berlin
X-LIC-LOCATION:Europe/Berlin
BEGIN:DAYLIGHT
DTSTART:19700329T020000
RRULE:FREQ=YEARLY;BYDAY=-1SU;BYMONTH=3
TZNAME:CEST
TZOFFSETFROM:+0100
TZOFFSETTO:+0200
END:DAYLIGHT
BEGIN:STANDARD
DTSTART:19701025T030000
RRULE:FREQ=YEARLY;BYDAY=-1SU;BYMONTH=10
TZNAME:CET
TZOFFSETFROM:+0200
TZOFFSETTO:+0100
END:STANDARD
END:VTIMEZONE
END:VCALENDAR
