BEGIN:VCALENDAR
VERSION:2.0
PRODID:-//destination.one//NONSGML destination.meta API//DE
X-WR-CALDESC:A calendar powered by destination.meta
X-WR-CALNAME:teutonavigator Kalender via destination.meta
BEGIN:VEVENT
CATEGORIES:Ausflug/Exkursion
CATEGORIES:Wanderung
DESCRIPTION:Die 7 Kilometer lange\, literarhistorische Wanderung führt zum 
 „Joelskamp“\, wo im Februar 1783 ein Handelsjude aus Ovenhausen ermordet w
 urde.\n\nmehr Informationen unter http://pages.destination.one/de/teutonav
 igator/streaming/detail/Event/e_101222644/wanderung-auf-den-spuren-der-ann
 ette-von-droste-h-lshoff
DTEND;TZID=Europe/Berlin:20260920T173000
DTSTAMP:20260422T154846Z
DTSTART;TZID=Europe/Berlin:20260920T140000
GEO:51.772287;9.214055
LOCATION:Besucher-Parkplatz des Herrenhauses Bökerhof\, Bökerhof 5\, Brakel
SEQUENCE:0
SUMMARY:Wanderung - Auf den Spuren der Annette von Droste-Hülshoff
UID:e_101222644_iv0
URL:http://pages.destination.one/de/teutonavigator/streaming/detail/Event/e
 _101222644/wanderung-auf-den-spuren-der-annette-von-droste-h-lshoff
END:VEVENT
BEGIN:VTIMEZONE
TZID:Europe/Berlin
X-LIC-LOCATION:Europe/Berlin
BEGIN:DAYLIGHT
DTSTART:19700329T020000
RRULE:FREQ=YEARLY;BYDAY=-1SU;BYMONTH=3
TZNAME:CEST
TZOFFSETFROM:+0100
TZOFFSETTO:+0200
END:DAYLIGHT
BEGIN:STANDARD
DTSTART:19701025T030000
RRULE:FREQ=YEARLY;BYDAY=-1SU;BYMONTH=10
TZNAME:CET
TZOFFSETFROM:+0200
TZOFFSETTO:+0100
END:STANDARD
END:VTIMEZONE
END:VCALENDAR
