BEGIN:VCALENDAR
VERSION:2.0
PRODID:-//destination.one//NONSGML destination.meta API//DE
X-WR-CALDESC:A calendar powered by destination.meta
X-WR-CALNAME:teutonavigator Kalender via destination.meta
BEGIN:VEVENT
CATEGORIES:Ausflug/Exkursion
CATEGORIES:Führung/Besichtigung
DESCRIPTION:Mit dem KlimaWandelBus\, einem 18 Meter langen Elektro-Gelenkbu
 s\, geht es ganz bequem zu den authentischen Lebensorten der Dichterin im 
 Kulturland Kreis Höxter.\n\nmehr Informationen unter http://pages.destinat
 ion.one/de/teutonavigator/streaming/detail/Event/e_101222557/bus-rundfahrt
 -zu-aufenthaltsorten-der-dichterin-annette-von-droste-h-lshoff-im-kreis-h-
 xter
DTEND;TZID=Europe/Berlin:20260705T170000
DTSTAMP:20260421T150927Z
DTSTART;TZID=Europe/Berlin:20260705T100000
GEO:51.772287;9.214055
LOCATION:Besucher-Parkplatz des Herrenhauses Bökerhof\, Bökerhof 5\, Brakel
SEQUENCE:0
SUMMARY:Bus-Rundfahrt zu Aufenthaltsorten der Dichterin Annette von Droste-
 Hülshoff im Kreis Höxter
UID:e_101222557_iv0
URL:http://pages.destination.one/de/teutonavigator/streaming/detail/Event/e
 _101222557/bus-rundfahrt-zu-aufenthaltsorten-der-dichterin-annette-von-dro
 ste-h-lshoff-im-kreis-h-xter
END:VEVENT
BEGIN:VTIMEZONE
TZID:Europe/Berlin
X-LIC-LOCATION:Europe/Berlin
BEGIN:DAYLIGHT
DTSTART:19700329T020000
RRULE:FREQ=YEARLY;BYDAY=-1SU;BYMONTH=3
TZNAME:CEST
TZOFFSETFROM:+0100
TZOFFSETTO:+0200
END:DAYLIGHT
BEGIN:STANDARD
DTSTART:19701025T030000
RRULE:FREQ=YEARLY;BYDAY=-1SU;BYMONTH=10
TZNAME:CET
TZOFFSETFROM:+0200
TZOFFSETTO:+0100
END:STANDARD
END:VTIMEZONE
END:VCALENDAR
