BEGIN:VCALENDAR
VERSION:2.0
PRODID:-//destination.one//NONSGML destination.meta API//DE
X-WR-CALDESC:A calendar powered by destination.meta
X-WR-CALNAME:teutonavigator Kalender via destination.meta
BEGIN:VEVENT
CATEGORIES:Gesundheit/Wellness
CATEGORIES:Vortrag/Lesung
CATEGORIES:Konzert divers
DESCRIPTION:BRAVO - Meine Stimme\nmit Anette Gebauer\n\nmehr Informationen 
 unter http://pages.destination.one/de/teutonavigator/streaming/detail/Even
 t/e_101222374/bravo-meine-stimme
DTEND;TZID=Europe/Berlin:20260502T173000
DTSTAMP:20260419T193934Z
DTSTART;TZID=Europe/Berlin:20260502T140000
GEO:51.940589;8.869774
LOCATION:Atelier Axel Plöger\, Sachsenstraße 27\, Detmold
ORGANIZER;CN=Axel Plöger - Malerei:mailto:malerei@axelploeger.de
SEQUENCE:0
SUMMARY:BRAVO - Meine Stimme
UID:e_101222374_iv0
URL:http://pages.destination.one/de/teutonavigator/streaming/detail/Event/e
 _101222374/bravo-meine-stimme
END:VEVENT
BEGIN:VEVENT
CATEGORIES:Gesundheit/Wellness
CATEGORIES:Vortrag/Lesung
CATEGORIES:Konzert divers
DESCRIPTION:BRAVO - Meine Stimme\nmit Anette Gebauer\n\nmehr Informationen 
 unter http://pages.destination.one/de/teutonavigator/streaming/detail/Even
 t/e_101222374/bravo-meine-stimme
DTEND;TZID=Europe/Berlin:20260919T173000
DTSTAMP:20260419T193934Z
DTSTART;TZID=Europe/Berlin:20260919T140000
GEO:51.940589;8.869774
LOCATION:Atelier Axel Plöger\, Sachsenstraße 27\, Detmold
ORGANIZER;CN=Axel Plöger - Malerei:mailto:malerei@axelploeger.de
SEQUENCE:0
SUMMARY:BRAVO - Meine Stimme
UID:e_101222374_iv1
URL:http://pages.destination.one/de/teutonavigator/streaming/detail/Event/e
 _101222374/bravo-meine-stimme
END:VEVENT
BEGIN:VTIMEZONE
TZID:Europe/Berlin
X-LIC-LOCATION:Europe/Berlin
BEGIN:DAYLIGHT
DTSTART:19700329T020000
RRULE:FREQ=YEARLY;BYDAY=-1SU;BYMONTH=3
TZNAME:CEST
TZOFFSETFROM:+0100
TZOFFSETTO:+0200
END:DAYLIGHT
BEGIN:STANDARD
DTSTART:19701025T030000
RRULE:FREQ=YEARLY;BYDAY=-1SU;BYMONTH=10
TZNAME:CET
TZOFFSETFROM:+0200
TZOFFSETTO:+0100
END:STANDARD
END:VTIMEZONE
END:VCALENDAR
