BEGIN:VCALENDAR
VERSION:2.0
PRODID:-//destination.one//NONSGML destination.meta API//DE
X-WR-CALDESC:A calendar powered by destination.meta
X-WR-CALNAME:teutonavigator Kalender via destination.meta
BEGIN:VEVENT
CATEGORIES:Flohmarkt
DESCRIPTION:Der nächste Bücherflohmarkt im Gemeindehaus Oberbauerschaft ste
 ht fest: Am Samstag\, 25. April 2026\, sind alle Bücherfreundinnen und Büc
 herfreunde herzlich eingeladen\, von 13:30 bis 16:30 Uhr nach neuem Lesest
 off zu stöbern\, zu schmökern und miteinander ins Gespräch zu kommen.\n\nm
 ehr Informationen unter http://pages.destination.one/de/teutonavigator/str
 eaming/detail/Event/e_101222155/5-b-cherflohmarkt-in-oberbauerschaft
DTEND;TZID=Europe/Berlin:20260425T163000
DTSTAMP:20260421T181649Z
DTSTART;TZID=Europe/Berlin:20260425T133000
GEO:52.264309;8.608480
LOCATION:Gemeindehaus Christuskirche\, Bünder Straße 4\, Hüllhorst
ORGANIZER;CN=Bücherflohmarkt-Team:mailto:janphilipp.kaul@gmail.com
SEQUENCE:0
SUMMARY:5. Bücherflohmarkt in Oberbauerschaft
UID:e_101222155_iv0
URL:http://pages.destination.one/de/teutonavigator/streaming/detail/Event/e
 _101222155/5-b-cherflohmarkt-in-oberbauerschaft
END:VEVENT
BEGIN:VTIMEZONE
TZID:Europe/Berlin
X-LIC-LOCATION:Europe/Berlin
BEGIN:DAYLIGHT
DTSTART:19700329T020000
RRULE:FREQ=YEARLY;BYDAY=-1SU;BYMONTH=3
TZNAME:CEST
TZOFFSETFROM:+0100
TZOFFSETTO:+0200
END:DAYLIGHT
BEGIN:STANDARD
DTSTART:19701025T030000
RRULE:FREQ=YEARLY;BYDAY=-1SU;BYMONTH=10
TZNAME:CET
TZOFFSETFROM:+0200
TZOFFSETTO:+0100
END:STANDARD
END:VTIMEZONE
END:VCALENDAR
